BEGIN:VCALENDAR
VERSION:2.0
PRODID:-//Up Česká republika - ECPv6.15.20//NONSGML v1.0//EN
CALSCALE:GREGORIAN
METHOD:PUBLISH
X-WR-CALNAME:Up Česká republika
X-ORIGINAL-URL:https://www.upcz.cz
X-WR-CALDESC:Akce na Up Česká republika
REFRESH-INTERVAL;VALUE=DURATION:PT1H
X-Robots-Tag:noindex
X-PUBLISHED-TTL:PT1H
BEGIN:VTIMEZONE
TZID:Europe/Prague
BEGIN:DAYLIGHT
TZOFFSETFROM:+0100
TZOFFSETTO:+0200
TZNAME:CEST
DTSTART:20220327T010000
END:DAYLIGHT
BEGIN:STANDARD
TZOFFSETFROM:+0200
TZOFFSETTO:+0100
TZNAME:CET
DTSTART:20221030T010000
END:STANDARD
BEGIN:DAYLIGHT
TZOFFSETFROM:+0100
TZOFFSETTO:+0200
TZNAME:CEST
DTSTART:20230326T010000
END:DAYLIGHT
BEGIN:STANDARD
TZOFFSETFROM:+0200
TZOFFSETTO:+0100
TZNAME:CET
DTSTART:20231029T010000
END:STANDARD
BEGIN:DAYLIGHT
TZOFFSETFROM:+0100
TZOFFSETTO:+0200
TZNAME:CEST
DTSTART:20240331T010000
END:DAYLIGHT
BEGIN:STANDARD
TZOFFSETFROM:+0200
TZOFFSETTO:+0100
TZNAME:CET
DTSTART:20241027T010000
END:STANDARD
END:VTIMEZONE
BEGIN:VEVENT
DTSTART;VALUE=DATE:20231005
DTEND;VALUE=DATE:20231006
DTSTAMP:20260426T040604
CREATED:20230323T195626Z
LAST-MODIFIED:20230323T195626Z
UID:28014-1696464000-1696550399@www.upcz.cz
SUMMARY:human brand
DESCRIPTION:
URL:https://www.upcz.cz/akce/human-brand/
CATEGORIES:Konference
END:VEVENT
BEGIN:VEVENT
DTSTART;VALUE=DATE:20231005
DTEND;VALUE=DATE:20231006
DTSTAMP:20260426T040604
CREATED:20230901T085425Z
LAST-MODIFIED:20230901T085425Z
UID:30757-1696464000-1696550399@www.upcz.cz
SUMMARY:HR business partner
DESCRIPTION:Máte na starosti řízení a plánování strategického rozvoje v oblasti HR? Zodpovídáte za veškeré procesy v HR včetně mzdové firemní politiky? Staráte se o rozvoj zaměstnanců a budete i letos připravovat plán vzdělávání na rok 2024? Stíháte sledovat a implementovat překotné legislativní změny v oblasti pracovního práva? Reportujete výsledky vašeho oddělení vedení společnosti? Zúčastněte se celostátní konference HR business partner.
URL:https://www.upcz.cz/akce/hr-business-partner/
LOCATION:Praha\, Hotel Olympik
CATEGORIES:Konference
END:VEVENT
BEGIN:VEVENT
DTSTART;VALUE=DATE:20231012
DTEND;VALUE=DATE:20231013
DTSTAMP:20260426T040604
CREATED:20230323T195706Z
LAST-MODIFIED:20230323T195706Z
UID:28016-1697068800-1697155199@www.upcz.cz
SUMMARY:HRko v Ostravě
DESCRIPTION:
URL:https://www.upcz.cz/akce/hrko-v-ostrave/
CATEGORIES:Konference
END:VEVENT
BEGIN:VEVENT
DTSTART;VALUE=DATE:20231019
DTEND;VALUE=DATE:20231020
DTSTAMP:20260426T040604
CREATED:20230323T195810Z
LAST-MODIFIED:20230323T195810Z
UID:28018-1697673600-1697759999@www.upcz.cz
SUMMARY:Happiness@Work Live!
DESCRIPTION:
URL:https://www.upcz.cz/akce/happinesswork-live/
CATEGORIES:Konference
END:VEVENT
BEGIN:VEVENT
DTSTART;VALUE=DATE:20231026
DTEND;VALUE=DATE:20231027
DTSTAMP:20260426T040605
CREATED:20230912T141955Z
LAST-MODIFIED:20230912T141955Z
UID:30893-1698278400-1698364799@www.upcz.cz
SUMMARY:HREA SUMMIT
DESCRIPTION:Využijte jedinečnou možnost seznámit se v jediném dni s bezmála 40 HR projekty přihlášenými do soutěže HR Excellence Award\, inspirovat se jimi a diskutovat s jejich autory. V závěru se uskuteční slavnostní vyhlášení všech kategorií soutěže a předání cen včetně Ceny veřejnosti\, o které budou na místě hlasovat účastníci v sále.
URL:https://www.upcz.cz/akce/hrea-summit/
CATEGORIES:Konference
END:VEVENT
END:VCALENDAR