BEGIN:VCALENDAR
VERSION:2.0
PRODID:-//Up Česká republika - ECPv6.15.20//NONSGML v1.0//EN
CALSCALE:GREGORIAN
METHOD:PUBLISH
X-WR-CALNAME:Up Česká republika
X-ORIGINAL-URL:https://www.upcz.cz
X-WR-CALDESC:Akce na Up Česká republika
REFRESH-INTERVAL;VALUE=DURATION:PT1H
X-Robots-Tag:noindex
X-PUBLISHED-TTL:PT1H
BEGIN:VTIMEZONE
TZID:Europe/Prague
BEGIN:DAYLIGHT
TZOFFSETFROM:+0100
TZOFFSETTO:+0200
TZNAME:CEST
DTSTART:20230326T010000
END:DAYLIGHT
BEGIN:STANDARD
TZOFFSETFROM:+0200
TZOFFSETTO:+0100
TZNAME:CET
DTSTART:20231029T010000
END:STANDARD
BEGIN:DAYLIGHT
TZOFFSETFROM:+0100
TZOFFSETTO:+0200
TZNAME:CEST
DTSTART:20240331T010000
END:DAYLIGHT
BEGIN:STANDARD
TZOFFSETFROM:+0200
TZOFFSETTO:+0100
TZNAME:CET
DTSTART:20241027T010000
END:STANDARD
BEGIN:DAYLIGHT
TZOFFSETFROM:+0100
TZOFFSETTO:+0200
TZNAME:CEST
DTSTART:20250330T010000
END:DAYLIGHT
BEGIN:STANDARD
TZOFFSETFROM:+0200
TZOFFSETTO:+0100
TZNAME:CET
DTSTART:20251026T010000
END:STANDARD
END:VTIMEZONE
BEGIN:VEVENT
DTSTART;VALUE=DATE:20241107
DTEND;VALUE=DATE:20241108
DTSTAMP:20260423T082751
CREATED:20241030T094241Z
LAST-MODIFIED:20241030T094241Z
UID:38098-1730937600-1731023999@www.upcz.cz
SUMMARY:EVOLVE! Summit 2024
DESCRIPTION:Devátý ročník kulturně vzdělávacího HR a Recruitment Festivalu v ČR. \nNEJvětší oborová událost roku. \nVyvrcholení sezóny. \nNot to be missed. \n  \nKaždý ročník EVOLVE! Summitu je výrazně jiný. V mnohém nás kopírují ostatní oborové události. Ale nám to nevadí. Těší nás to. Znamená to\, že jsme originální. A to jak obsahově\, tak organizačně. \nA letošní devátý ročník bude zásadně jiný. Musí\, protože všechno se mění. I trh práce a potřeby firem se změnily tak rychle\, jako nikdy předtím. A my všichni na to musíme reagovat. Nedostatek kandidátů už dávno není jedinou překážkou. Za úspěchem je perfektně fungující firemní ekosystém\, který je důležitější než kdy jindy. A řečníci\, kteří postupně potvrzují svoji účast\, vás provedou vším\, co stojí za jejich úspěchy. \nOpět na EVOLVE! Summitu zažijete jako vždy unikátní obsah a originální program! \n4 pódia. Bořící trendy v HR\, Náborovém marketingu\, Legislativě\, Sourcingu a Recruitmentu. \nNeotřelých 25 řečníků z lokálního a mezinárodního prostředí. \nSimultánní tlumočení hlavních pódií z AJ-CJ a naopak. \nPartneři s nejnovějšími produkty a službami. \nKontakt s kolegy z oboru. \nJedinečná Afterparty.
URL:https://www.upcz.cz/akce/evolve-summit-2024/
LOCATION:Brno
CATEGORIES:Konference
END:VEVENT
BEGIN:VEVENT
DTSTART;VALUE=DATE:20241113
DTEND;VALUE=DATE:20241114
DTSTAMP:20260423T082751
CREATED:20241029T081859Z
LAST-MODIFIED:20241029T081859Z
UID:38086-1731456000-1731542399@www.upcz.cz
SUMMARY:Konference: 2 novely zákoníku práce + novela zákona o zaměstnanosti 2024/2025
DESCRIPTION:Už na podzim přichází transpoziční novela zákoníku práce! Budou si moct vaši zaměstnanci nově rozvrhovat pracovní dobu sami? S flexibilní novelou ZP dostanou stávající pravidla pro propouštění na frak a nově budete moct zaměstnance snadněji propustit. Víte\, že se také zásadně změní pravidla pro zaměstnávání rodičů a cizinců? Chystá se Evidence uznaných zaměstnavatelů a pokud v ní nebudete\, cizince už nezaměstnáte. Novela ZOZ přinese přísnější sankce za nelegální zaměstnávání. Navíc budete muset povinně zveřejňovat platy – hrozí revolta ze strany zaměstnanců? Povinně budete muset také reportovat rozdíly v platech mezi muži a ženami. Chystají se ale i další změny a vy je musíte znát.
URL:https://www.upcz.cz/akce/konference-2-novely-zakoniku-prace-novela-zakona-o-zamestnanosti-2024-2025/
LOCATION:Praha\, Hotel Olympik
CATEGORIES:Konference
ORGANIZER;CN="Nakladatelstv%C3%AD FORUM s.r.o.":MAILTO:office@forum-media.cz
END:VEVENT
BEGIN:VEVENT
DTSTART;VALUE=DATE:20241121
DTEND;VALUE=DATE:20241122
DTSTAMP:20260423T082751
CREATED:20240607T140037Z
LAST-MODIFIED:20240607T140037Z
UID:35665-1732147200-1732233599@www.upcz.cz
SUMMARY:Legislativní forum
DESCRIPTION:
URL:https://www.upcz.cz/akce/legislativni-forum/
LOCATION:Praha
CATEGORIES:Konference
END:VEVENT
BEGIN:VEVENT
DTSTART;TZID=Europe/Prague:20241121T080000
DTEND;TZID=Europe/Prague:20241122T170000
DTSTAMP:20260423T082751
CREATED:20240226T114218Z
LAST-MODIFIED:20240226T114218Z
UID:34168-1732176000-1732294800@www.upcz.cz
SUMMARY:Ne(vinné) HR
DESCRIPTION:Pro všechny milovníky Perosnalistiky\, HR\, vzdělávání\, Jižní Moravy\, vína\, cimbálu a networkingu\, pořádáme vzdělávací setkání pod Pálavou\, v samém srdci Jižní Moravy.  
URL:https://www.upcz.cz/akce/nevinne-hr/
LOCATION:Zaječí
CATEGORIES:Konference
END:VEVENT
END:VCALENDAR