BEGIN:VCALENDAR
VERSION:2.0
PRODID:-//Up Česká republika - ECPv6.15.20//NONSGML v1.0//EN
CALSCALE:GREGORIAN
METHOD:PUBLISH
X-WR-CALNAME:Up Česká republika
X-ORIGINAL-URL:https://www.upcz.cz
X-WR-CALDESC:Akce na Up Česká republika
REFRESH-INTERVAL;VALUE=DURATION:PT1H
X-Robots-Tag:noindex
X-PUBLISHED-TTL:PT1H
BEGIN:VTIMEZONE
TZID:Europe/Prague
BEGIN:DAYLIGHT
TZOFFSETFROM:+0100
TZOFFSETTO:+0200
TZNAME:CEST
DTSTART:20230326T010000
END:DAYLIGHT
BEGIN:STANDARD
TZOFFSETFROM:+0200
TZOFFSETTO:+0100
TZNAME:CET
DTSTART:20231029T010000
END:STANDARD
BEGIN:DAYLIGHT
TZOFFSETFROM:+0100
TZOFFSETTO:+0200
TZNAME:CEST
DTSTART:20240331T010000
END:DAYLIGHT
BEGIN:STANDARD
TZOFFSETFROM:+0200
TZOFFSETTO:+0100
TZNAME:CET
DTSTART:20241027T010000
END:STANDARD
BEGIN:DAYLIGHT
TZOFFSETFROM:+0100
TZOFFSETTO:+0200
TZNAME:CEST
DTSTART:20250330T010000
END:DAYLIGHT
BEGIN:STANDARD
TZOFFSETFROM:+0200
TZOFFSETTO:+0100
TZNAME:CET
DTSTART:20251026T010000
END:STANDARD
END:VTIMEZONE
BEGIN:VEVENT
DTSTART;VALUE=DATE:20240313
DTEND;VALUE=DATE:20240315
DTSTAMP:20260425T200611
CREATED:20240226T114402Z
LAST-MODIFIED:20240226T114402Z
UID:34170-1710288000-1710460799@www.upcz.cz
SUMMARY:Career Expo Praha 2024
DESCRIPTION:Career Expo je nový festival pracovních příležitostí v České republice. Přinese kariérní poradenství\, pracovní nabídky či aktuální trendy ze světa práce přímo mezi lidi. Programová struktura bude důkladně přizpůsobena tématům\, které jsou přínosné jak pro uchazeče\, tak i zaměstnavatele. Během 13.-14. března 2024 tak přeměníme O₂ universum v Praze na místo plné inspirace s možností otestovat a rozvíjet své dovednosti nebo najít své vysněné uplatnění.
URL:https://www.upcz.cz/akce/career-expo-praha-2024/
LOCATION:Praha
CATEGORIES:Konference
END:VEVENT
BEGIN:VEVENT
DTSTART;VALUE=DATE:20240314
DTEND;VALUE=DATE:20240315
DTSTAMP:20260425T200611
CREATED:20231114T122624Z
LAST-MODIFIED:20231114T122624Z
UID:32094-1710374400-1710460799@www.upcz.cz
SUMMARY:Fenomén 2024
DESCRIPTION:5. ročník byznysové konference Fenomén\, tentokrát o hledání rovnováhy mezi lidským potenciálem a technologiemi budoucnosti.
URL:https://www.upcz.cz/akce/fenomen-2024/
LOCATION:Zlín
CATEGORIES:Konference
END:VEVENT
BEGIN:VEVENT
DTSTART;VALUE=DATE:20240320
DTEND;VALUE=DATE:20240322
DTSTAMP:20260425T200611
CREATED:20240226T121259Z
LAST-MODIFIED:20240226T121259Z
UID:34176-1710892800-1711065599@www.upcz.cz
SUMMARY:Future of HR 2024
DESCRIPTION:
URL:https://www.upcz.cz/akce/future-of-hr-2024/
LOCATION:MS Teams
CATEGORIES:Konference
END:VEVENT
BEGIN:VEVENT
DTSTART;VALUE=DATE:20240321
DTEND;VALUE=DATE:20240322
DTSTAMP:20260425T200611
CREATED:20240226T130220Z
LAST-MODIFIED:20240226T130220Z
UID:34202-1710979200-1711065599@www.upcz.cz
SUMMARY:Fórum personalistů Ostrava
DESCRIPTION:Akce je určena pro všechny\, kteří se chtějí dozvědět aktuality z pracovněprávní legislativy\, setkat se s ostatními HR kolegy\, vedoucími z různých firem/odvětví\, diskutovat s nimi a sdílet své zkušenosti.
URL:https://www.upcz.cz/akce/forum-personalistu-ostrava/
LOCATION:Ostrava
CATEGORIES:Konference
END:VEVENT
BEGIN:VEVENT
DTSTART;VALUE=DATE:20240321
DTEND;VALUE=DATE:20240323
DTSTAMP:20260425T200611
CREATED:20240213T090117Z
LAST-MODIFIED:20240213T090117Z
UID:33886-1710979200-1711151999@www.upcz.cz
SUMMARY:Pracovní právo a personalistika 2024
DESCRIPTION:Přijměte pozvání na jedinečný kongres pořádaný ve dnech 21. až 22. 3. 2024 v nádherném Hotelu Sen**** obklopeném přírodou Ladova kraje. Čekají Vás dva dny nabité odbornými přednáškami\, moderními trendy v oboru\, diskuzemi s předními odborníky ale také wellnessem a relaxací v krásné přírodě kousek od Prahy. \n\nKongres je určený zaměstnavatelům\, personálním manažerům\, HR specialistům\, HR administrátorům\, firemním právníkům\, advokátním kancelářím\, mzdovým účetním a všem dalším\, kteří se zajímají o aktuální legislativu\, zkušenosti\, trendy a výzvy v tomto oboru.
URL:https://www.upcz.cz/akce/pracovni-pravo-a-personalistika-2024/
CATEGORIES:Konference
END:VEVENT
BEGIN:VEVENT
DTSTART;TZID=Europe/Prague:20240321T130000
DTEND;TZID=Europe/Prague:20240321T170000
DTSTAMP:20260425T200611
CREATED:20240227T095300Z
LAST-MODIFIED:20240227T095300Z
UID:34238-1711026000-1711040400@www.upcz.cz
SUMMARY:PROPOJENÍ CX A EX JAKO STRATEGIE FIREMNÍHO ÚSPĚCHU
DESCRIPTION:Udržet si loajální zákazníky a zaměstnance\, získávat nové a rozvíjet konkurenceschopný byznys je strategie mnoha firem. Jednou z cest je zlepšování zákaznické zkušenosti CX a zaměstnanecké zkušenosti EX. Ve vnímání jejich důležitosti jsou však z pohledu managementu firem zásadní rozdíly\, EX za CX často pokulhává a obě oblasti nejsou propojené. Dle studie Global Voices of Experience z podzimu 2023\, které se účastnilo přes 1000 CX a EX expertů z celého světa\, vyplývá\, že 38% firem neanalyzuje nikdy CX a EX data dohromady.
URL:https://www.upcz.cz/akce/propojeni-cx-a-ex-jako-strategie-firemniho-uspechu/
LOCATION:Praha
CATEGORIES:Konference
END:VEVENT
END:VCALENDAR