BEGIN:VCALENDAR
VERSION:2.0
PRODID:-//Up Česká republika - ECPv6.15.20//NONSGML v1.0//EN
CALSCALE:GREGORIAN
METHOD:PUBLISH
X-WR-CALNAME:Up Česká republika
X-ORIGINAL-URL:https://www.upcz.cz
X-WR-CALDESC:Akce na Up Česká republika
REFRESH-INTERVAL;VALUE=DURATION:PT1H
X-Robots-Tag:noindex
X-PUBLISHED-TTL:PT1H
BEGIN:VTIMEZONE
TZID:Europe/Prague
BEGIN:DAYLIGHT
TZOFFSETFROM:+0100
TZOFFSETTO:+0200
TZNAME:CEST
DTSTART:20230326T010000
END:DAYLIGHT
BEGIN:STANDARD
TZOFFSETFROM:+0200
TZOFFSETTO:+0100
TZNAME:CET
DTSTART:20231029T010000
END:STANDARD
BEGIN:DAYLIGHT
TZOFFSETFROM:+0100
TZOFFSETTO:+0200
TZNAME:CEST
DTSTART:20240331T010000
END:DAYLIGHT
BEGIN:STANDARD
TZOFFSETFROM:+0200
TZOFFSETTO:+0100
TZNAME:CET
DTSTART:20241027T010000
END:STANDARD
BEGIN:DAYLIGHT
TZOFFSETFROM:+0100
TZOFFSETTO:+0200
TZNAME:CEST
DTSTART:20250330T010000
END:DAYLIGHT
BEGIN:STANDARD
TZOFFSETFROM:+0200
TZOFFSETTO:+0100
TZNAME:CET
DTSTART:20251026T010000
END:STANDARD
END:VTIMEZONE
BEGIN:VEVENT
DTSTART;VALUE=DATE:20240514
DTEND;VALUE=DATE:20240515
DTSTAMP:20260425T165936
CREATED:20231114T123444Z
LAST-MODIFIED:20231114T123444Z
UID:32107-1715644800-1715731199@www.upcz.cz
SUMMARY:Czech HR Summit 2024
DESCRIPTION:
URL:https://www.upcz.cz/akce/czech-hr-summit-2024/
LOCATION:Praha
CATEGORIES:Konference
END:VEVENT
BEGIN:VEVENT
DTSTART;VALUE=DATE:20240516
DTEND;VALUE=DATE:20240517
DTSTAMP:20260425T165936
CREATED:20231114T123538Z
LAST-MODIFIED:20231213T150719Z
UID:32109-1715817600-1715903999@www.upcz.cz
SUMMARY:HR Know How
DESCRIPTION:
URL:https://www.upcz.cz/akce/hr-know-how-2/
LOCATION:Praha
CATEGORIES:Konference
END:VEVENT
BEGIN:VEVENT
DTSTART;VALUE=DATE:20240516
DTEND;VALUE=DATE:20240517
DTSTAMP:20260425T165936
CREATED:20240116T101241Z
LAST-MODIFIED:20240116T101241Z
UID:33450-1715817600-1715903999@www.upcz.cz
SUMMARY:HR (R)Evoluce 2024
DESCRIPTION:Budoucnost práce\, rozvoj firemní kultury a firemní komunikace v době AI
URL:https://www.upcz.cz/akce/hr-revoluce-2024/
LOCATION:Hotel Jalta\, Václavské náměstí 45\, Praha 1
CATEGORIES:Konference
END:VEVENT
BEGIN:VEVENT
DTSTART;VALUE=DATE:20240516
DTEND;VALUE=DATE:20240518
DTSTAMP:20260425T165936
CREATED:20231114T123654Z
LAST-MODIFIED:20240226T114100Z
UID:32111-1715817600-1715990399@www.upcz.cz
SUMMARY:HR Mezi Řádky
DESCRIPTION:
URL:https://www.upcz.cz/akce/hr-mezi-radky/
LOCATION:Zaječí
CATEGORIES:Konference
END:VEVENT
BEGIN:VEVENT
DTSTART;TZID=Europe/Prague:20240516T133000
DTEND;TZID=Europe/Prague:20240516T223000
DTSTAMP:20260425T165936
CREATED:20240516T074352Z
LAST-MODIFIED:20240516T074655Z
UID:35266-1715866200-1715898600@www.upcz.cz
SUMMARY:FintechRoadmap 24
DESCRIPTION:Třetí ročník konference přinese opět spoustu užitečných informací pro zakladatele\, C-level a zaměstnance FinTechů i další stakeholdery v oblasti FinTech. Potkat se budete moci také s regulátory a technickými enablery. Vítanými hosty jsou samozřejmě i ti\, kteří jsou třeba jen fanoušky FinTechu a rádi potkají tvůrce svých oblíbených finančních appek.
URL:https://www.upcz.cz/akce/fintechroadmap-24/
LOCATION:Václavák 22\, Václavské náměstí 22\, Praha
CATEGORIES:Konference
END:VEVENT
BEGIN:VEVENT
DTSTART;VALUE=DATE:20240522
DTEND;VALUE=DATE:20240524
DTSTAMP:20260425T165936
CREATED:20240226T124457Z
LAST-MODIFIED:20240226T124457Z
UID:34198-1716336000-1716508799@www.upcz.cz
SUMMARY:PERFORMIA 2024
DESCRIPTION:Chtěli byste vědět\, jak přesně přilákat více kvalitních uchazečů? Zajímá vás\, jak dlouhodobě udržet energický a motivovaný tým? Máme pro vás dobrou zprávu. Všechno\, co k tomu potřebujete\, už dávno máte. Teď to jen správně zavést do praxe. Letošní konference bude nabitá příklady úspěšných českých firem a lidmi\, kteří se stejně jako vy stále snaží věci zlepšovat a posouvat. Doufáme\, že na ní nebudete chybět.
URL:https://www.upcz.cz/akce/performia-2024/
LOCATION:Praha
CATEGORIES:Konference
END:VEVENT
BEGIN:VEVENT
DTSTART;VALUE=DATE:20240530
DTEND;VALUE=DATE:20240531
DTSTAMP:20260425T165936
CREATED:20240226T122325Z
LAST-MODIFIED:20240226T122325Z
UID:34186-1717027200-1717113599@www.upcz.cz
SUMMARY:Recruitment Academy Awards 2024
DESCRIPTION:9. ročník soutěže pro firmy\, které mění HR marketing
URL:https://www.upcz.cz/akce/recruitment-academy-awards-2024/
CATEGORIES:Konference
END:VEVENT
END:VCALENDAR