BEGIN:VCALENDAR
VERSION:2.0
PRODID:-//Up Česká republika - ECPv6.15.20//NONSGML v1.0//EN
CALSCALE:GREGORIAN
METHOD:PUBLISH
X-ORIGINAL-URL:https://www.upcz.cz
X-WR-CALDESC:Akce na Up Česká republika
REFRESH-INTERVAL;VALUE=DURATION:PT1H
X-Robots-Tag:noindex
X-PUBLISHED-TTL:PT1H
BEGIN:VTIMEZONE
TZID:Europe/Prague
BEGIN:DAYLIGHT
TZOFFSETFROM:+0100
TZOFFSETTO:+0200
TZNAME:CEST
DTSTART:20230326T010000
END:DAYLIGHT
BEGIN:STANDARD
TZOFFSETFROM:+0200
TZOFFSETTO:+0100
TZNAME:CET
DTSTART:20231029T010000
END:STANDARD
BEGIN:DAYLIGHT
TZOFFSETFROM:+0100
TZOFFSETTO:+0200
TZNAME:CEST
DTSTART:20240331T010000
END:DAYLIGHT
BEGIN:STANDARD
TZOFFSETFROM:+0200
TZOFFSETTO:+0100
TZNAME:CET
DTSTART:20241027T010000
END:STANDARD
BEGIN:DAYLIGHT
TZOFFSETFROM:+0100
TZOFFSETTO:+0200
TZNAME:CEST
DTSTART:20250330T010000
END:DAYLIGHT
BEGIN:STANDARD
TZOFFSETFROM:+0200
TZOFFSETTO:+0100
TZNAME:CET
DTSTART:20251026T010000
END:STANDARD
END:VTIMEZONE
BEGIN:VEVENT
DTSTART;VALUE=DATE:20240912
DTEND;VALUE=DATE:20240914
DTSTAMP:20260423T081031
CREATED:20240531T084759Z
LAST-MODIFIED:20240531T084759Z
UID:35502-1726099200-1726271999@www.upcz.cz
SUMMARY:HR Minds 2024
DESCRIPTION:HR Minds 2024 conference offers an outraging 2 days program with multiple interesting presentations and highly qualified speakers. Come and join our event if you want to learn more about AI and how to benefit from people analytics\, the importance of Well-being\, and People development hand in hand with transparency through clear communication.
URL:https://www.upcz.cz/akce/hr-minds-2024/
LOCATION:Grandior Prague Hotel
CATEGORIES:Konference
END:VEVENT
BEGIN:VEVENT
DTSTART;VALUE=DATE:20240918
DTEND;VALUE=DATE:20240919
DTSTAMP:20260423T081031
CREATED:20231114T124003Z
LAST-MODIFIED:20231114T124003Z
UID:32119-1726617600-1726703999@www.upcz.cz
SUMMARY:Lidský kapitál 2024
DESCRIPTION:
URL:https://www.upcz.cz/akce/lidsky-kapital-2024/
LOCATION:Praha
CATEGORIES:Konference
END:VEVENT
BEGIN:VEVENT
DTSTART;TZID=Europe/Prague:20240926T130000
DTEND;TZID=Europe/Prague:20240926T190000
DTSTAMP:20260423T081031
CREATED:20240607T132744Z
LAST-MODIFIED:20240607T132744Z
UID:35660-1727355600-1727377200@www.upcz.cz
SUMMARY:HR Business Forum v Brně
DESCRIPTION:Dovednosti pro budoucnost\nBouřlivý vývoj technologií a nástup AI mění přístup k lidské výkonnosti a klade nové požadavky na vedení a řízení lidí. Technologie ale samy o sobě inovace nerealizují. Klíčovým motorem inovací a rozvoje zůstává lidský výkon a potenciál lidského kapitálu v organizacích.
URL:https://www.upcz.cz/akce/hr-business-forum-v-brne/
LOCATION:Brno
CATEGORIES:Konference
END:VEVENT
END:VCALENDAR