BEGIN:VCALENDAR
VERSION:2.0
PRODID:-//Up Česká republika - ECPv6.15.20//NONSGML v1.0//EN
CALSCALE:GREGORIAN
METHOD:PUBLISH
X-WR-CALNAME:Up Česká republika
X-ORIGINAL-URL:https://www.upcz.cz
X-WR-CALDESC:Akce na Up Česká republika
REFRESH-INTERVAL;VALUE=DURATION:PT1H
X-Robots-Tag:noindex
X-PUBLISHED-TTL:PT1H
BEGIN:VTIMEZONE
TZID:Europe/Prague
BEGIN:DAYLIGHT
TZOFFSETFROM:+0100
TZOFFSETTO:+0200
TZNAME:CEST
DTSTART:20230326T010000
END:DAYLIGHT
BEGIN:STANDARD
TZOFFSETFROM:+0200
TZOFFSETTO:+0100
TZNAME:CET
DTSTART:20231029T010000
END:STANDARD
BEGIN:DAYLIGHT
TZOFFSETFROM:+0100
TZOFFSETTO:+0200
TZNAME:CEST
DTSTART:20240331T010000
END:DAYLIGHT
BEGIN:STANDARD
TZOFFSETFROM:+0200
TZOFFSETTO:+0100
TZNAME:CET
DTSTART:20241027T010000
END:STANDARD
BEGIN:DAYLIGHT
TZOFFSETFROM:+0100
TZOFFSETTO:+0200
TZNAME:CEST
DTSTART:20250330T010000
END:DAYLIGHT
BEGIN:STANDARD
TZOFFSETFROM:+0200
TZOFFSETTO:+0100
TZNAME:CET
DTSTART:20251026T010000
END:STANDARD
END:VTIMEZONE
BEGIN:VEVENT
DTSTART;VALUE=DATE:20241015
DTEND;VALUE=DATE:20241016
DTSTAMP:20260423T064533
CREATED:20231114T124139Z
LAST-MODIFIED:20231114T124139Z
UID:32121-1728950400-1729036799@www.upcz.cz
SUMMARY:Happiness@Work Live! 2024
DESCRIPTION:Největší česká leadershipová konference se bude konat už po desáté. O tuhle akci opravdu nechcete přijít! Potkáte všechny\, kteří mají k tématu skvělé firemní kultury co říct. Odnesete si tu nejlepší inspiraci\, kterou jsme za deset let nasbírali.
URL:https://www.upcz.cz/akce/happinesswork-live-2024/
LOCATION:Praha
CATEGORIES:Konference
END:VEVENT
BEGIN:VEVENT
DTSTART;VALUE=DATE:20241017
DTEND;VALUE=DATE:20241018
DTSTAMP:20260423T064533
CREATED:20231114T124343Z
LAST-MODIFIED:20231114T124343Z
UID:32123-1729123200-1729209599@www.upcz.cz
SUMMARY:HRko 2024: Black edition
DESCRIPTION:Největší HR párty v dějinách Česka!\n1500 decision makerů na jednom místě. V Ostravě. V aule Gong.\nCelodenní nálož HR případovek\, nejmodernějších HR nástrojů a best practices.\nUrčeno pro všechny lídry\, kteří věří v lidský potenciál a chtějí ho dále rozvíjet.
URL:https://www.upcz.cz/akce/hrko-2024-black-edition/
LOCATION:Ostrava
CATEGORIES:Konference
END:VEVENT
BEGIN:VEVENT
DTSTART;VALUE=DATE:20241024
DTEND;VALUE=DATE:20241025
DTSTAMP:20260423T064533
CREATED:20240607T133001Z
LAST-MODIFIED:20240607T135941Z
UID:35662-1729728000-1729814399@www.upcz.cz
SUMMARY:HREA Summit
DESCRIPTION:Využijte jedinečnou možnost seznámit se v jediném dni se všemi HR projekty přihlášenými do soutěže HR Excellence Award\, inspirovat se jimi a diskutovat s jejich autory. V závěru se uskuteční slavnostní vyhlášení všech kategorií soutěže a předání cen včetně Ceny veřejnosti\, o které budou na místě hlasovat účastníci v sále. \n‍
URL:https://www.upcz.cz/akce/hrea-summit-2/
LOCATION:Praha
CATEGORIES:Konference
END:VEVENT
END:VCALENDAR