BEGIN:VCALENDAR
VERSION:2.0
PRODID:-//Up Česká republika - ECPv6.15.20//NONSGML v1.0//EN
CALSCALE:GREGORIAN
METHOD:PUBLISH
X-WR-CALNAME:Up Česká republika
X-ORIGINAL-URL:https://www.upcz.cz
X-WR-CALDESC:Akce na Up Česká republika
REFRESH-INTERVAL;VALUE=DURATION:PT1H
X-Robots-Tag:noindex
X-PUBLISHED-TTL:PT1H
BEGIN:VTIMEZONE
TZID:Europe/Prague
BEGIN:DAYLIGHT
TZOFFSETFROM:+0100
TZOFFSETTO:+0200
TZNAME:CEST
DTSTART:20240331T010000
END:DAYLIGHT
BEGIN:STANDARD
TZOFFSETFROM:+0200
TZOFFSETTO:+0100
TZNAME:CET
DTSTART:20241027T010000
END:STANDARD
BEGIN:DAYLIGHT
TZOFFSETFROM:+0100
TZOFFSETTO:+0200
TZNAME:CEST
DTSTART:20250330T010000
END:DAYLIGHT
BEGIN:STANDARD
TZOFFSETFROM:+0200
TZOFFSETTO:+0100
TZNAME:CET
DTSTART:20251026T010000
END:STANDARD
BEGIN:DAYLIGHT
TZOFFSETFROM:+0100
TZOFFSETTO:+0200
TZNAME:CEST
DTSTART:20260329T010000
END:DAYLIGHT
BEGIN:STANDARD
TZOFFSETFROM:+0200
TZOFFSETTO:+0100
TZNAME:CET
DTSTART:20261025T010000
END:STANDARD
END:VTIMEZONE
BEGIN:VEVENT
DTSTART;TZID=Europe/Prague:20250123T173000
DTEND;TZID=Europe/Prague:20250123T223000
DTSTAMP:20260423T022914
CREATED:20241128T100534Z
LAST-MODIFIED:20241128T100534Z
UID:44276-1737653400-1737671400@www.upcz.cz
SUMMARY:Setkání personalistů a manažerů 2025
DESCRIPTION:Zveme vás na naši první tradiční akci v roce 2025 – Setkání personalistů a manažerů 2025\, které jsme pro vás připravili na večer 23.ledna. Naše každoroční akce nabízí setkání se zajímavými osobnostmi\, diskuzi s kolegy i příležitost k navázání nových kontaktů u dobrého jídla a pití. Těšíme se na setkání s vámi v unikátních art deco prostorách Rezidence primátora Hl.m.Prahy\, který nám naše setkání zaštítil a tak vy budete mít možnost si tyto nádherné prostory prohlédnout. Můžete se těšit na inspirativní rozhovor s prim. MUDr. Katarínou Vlčkovou.
URL:https://www.upcz.cz/akce/setkani-personalistu-a-manazeru-2025/
LOCATION:Praha
CATEGORIES:Konference
END:VEVENT
END:VCALENDAR