BEGIN:VCALENDAR
VERSION:2.0
PRODID:-//Up Česká republika - ECPv6.15.20//NONSGML v1.0//EN
CALSCALE:GREGORIAN
METHOD:PUBLISH
X-WR-CALNAME:Up Česká republika
X-ORIGINAL-URL:https://www.upcz.cz
X-WR-CALDESC:Akce na Up Česká republika
REFRESH-INTERVAL;VALUE=DURATION:PT1H
X-Robots-Tag:noindex
X-PUBLISHED-TTL:PT1H
BEGIN:VTIMEZONE
TZID:Europe/Prague
BEGIN:DAYLIGHT
TZOFFSETFROM:+0100
TZOFFSETTO:+0200
TZNAME:CEST
DTSTART:20240331T010000
END:DAYLIGHT
BEGIN:STANDARD
TZOFFSETFROM:+0200
TZOFFSETTO:+0100
TZNAME:CET
DTSTART:20241027T010000
END:STANDARD
BEGIN:DAYLIGHT
TZOFFSETFROM:+0100
TZOFFSETTO:+0200
TZNAME:CEST
DTSTART:20250330T010000
END:DAYLIGHT
BEGIN:STANDARD
TZOFFSETFROM:+0200
TZOFFSETTO:+0100
TZNAME:CET
DTSTART:20251026T010000
END:STANDARD
BEGIN:DAYLIGHT
TZOFFSETFROM:+0100
TZOFFSETTO:+0200
TZNAME:CEST
DTSTART:20260329T010000
END:DAYLIGHT
BEGIN:STANDARD
TZOFFSETFROM:+0200
TZOFFSETTO:+0100
TZNAME:CET
DTSTART:20261025T010000
END:STANDARD
END:VTIMEZONE
BEGIN:VEVENT
DTSTART;VALUE=DATE:20250512
DTEND;VALUE=DATE:20250513
DTSTAMP:20260422T203438
CREATED:20241128T104433Z
LAST-MODIFIED:20241128T104433Z
UID:44332-1747008000-1747094399@www.upcz.cz
SUMMARY:HR Brains
DESCRIPTION:Setkání předních odborníků v oblasti HR z celé České republiky. Pojďme networkovat\, sdílet osvědčené postupy a načerpat inspiraci\, kterou jinde nenajdete! \n\nCo nás čeká v dalším ročníku?\n\n\n\n\nNaší misí je posilovat roli HR jako strategického partnera v organizaci. Proto se HR BRAINS 2025 ponese v duchu podtitulu “Ukažme to čísly – HR jako strategický partner byznysu”. Zaměříme se na měřitelné výsledky a ukážeme si\, jak může HR přispět k obchodnímu úspěchu a stát se nepostradatelným partnerem managementu. \nStejně jako v minulém ročníku se i ten nadcházející soustředí na tři klíčové oblasti: \n\nHodnota HR\nPraktické HR\nDEI (Diverzita\, inkluze a rovnost)\n\n\n\n 
URL:https://www.upcz.cz/akce/hr-brains-2/
LOCATION:Clarion Congress Hotel Prague
CATEGORIES:Konference
END:VEVENT
BEGIN:VEVENT
DTSTART;VALUE=DATE:20250513
DTEND;VALUE=DATE:20250514
DTSTAMP:20260422T203438
CREATED:20241128T104003Z
LAST-MODIFIED:20241128T104003Z
UID:44326-1747094400-1747180799@www.upcz.cz
SUMMARY:8. ročník Czech HR Summit
DESCRIPTION:Nové trendy v HR: Přizpůsobení se změnám ve 21. století
URL:https://www.upcz.cz/akce/8-rocnik-czech-hr-summit/
CATEGORIES:Konference
END:VEVENT
BEGIN:VEVENT
DTSTART;VALUE=DATE:20250514
DTEND;VALUE=DATE:20250516
DTSTAMP:20260422T203438
CREATED:20241128T104603Z
LAST-MODIFIED:20241128T104603Z
UID:44336-1747180800-1747353599@www.upcz.cz
SUMMARY:PERFORMIA 2025
DESCRIPTION:LIDÉ A ČAS: Získejte pro svůj tým náskok \nS ohledem na přítomnost i budoucnost se zaměříme na největší výzvy v oblasti budování týmů a nabídneme vám praktické a efektivní způsoby\, jak je zvládnout. Můžete se těšit na inspirativní příklady úspěšných českých firem a setkání s lidmi\, kteří se stejně jako vy stále snaží věci zlepšovat a posouvat. Doufáme\, že na této konferenci nebudete chybět!\nTěšíme se na vás!
URL:https://www.upcz.cz/akce/performia-2025/
LOCATION:Praha
CATEGORIES:Konference
END:VEVENT
BEGIN:VEVENT
DTSTART;VALUE=DATE:20250515
DTEND;VALUE=DATE:20250516
DTSTAMP:20260422T203438
CREATED:20250204T083813Z
LAST-MODIFIED:20250204T083813Z
UID:45706-1747267200-1747353599@www.upcz.cz
SUMMARY:Konference HR Fresh
DESCRIPTION:Během této jedinečné události se zaměříme na čtyři hlavní témata\, která reflektují současné výzvy a příležitosti v personalistice a managementu: \n\nCyberSafety: Budoucnost v AI a IT. Zjistěte\, jak moderní technologie formují budoucnost práce a bezpečnost v digitálním věku.\nCzechInnovate: Kam směřuje český průmysl? Odhalte klíčové faktory ovlivňujících budoucí vývoj českého průmyslu\, včetně inovací\, automatizace a udržitelnosti.\nTalentUp: Nábor a vzdělávání. Prozkoumejte moderní metody a nástroje pro efektivní nábor\, zapojení a rozvoj talentů v dynamickém pracovním prostředí.\nWellBiz: Zdravý byznys\, zdravý život. Objevte nejnovější trendy pro podporu zdravého a vyváženého pracovního prostředí pro dlouhodobý úspěch firmy.\nVíce zde: https://www.hrfresh.cz/cz/\n© HR Fresh
URL:https://www.upcz.cz/akce/konference-hr-fresh/
LOCATION:Praha
CATEGORIES:Konference
END:VEVENT
BEGIN:VEVENT
DTSTART;VALUE=DATE:20250522
DTEND;VALUE=DATE:20250524
DTSTAMP:20260422T203438
CREATED:20250207T081946Z
LAST-MODIFIED:20250207T081946Z
UID:45777-1747872000-1748044799@www.upcz.cz
SUMMARY:Konference Trendy práce 2025
DESCRIPTION:Summit o tom\, jak připravit pracovní trh a sami sebe na budoucnost. \nVelká dvoudenní konference Hospodářských novin o českém pracovním trhu a jeho přípravě na budoucnost. Základními tématy jsou potřeby tuzemské ekonomiky v příštích letech\, dovednosti zaměstnance 21. století\, HR trendy v zaměstnávání\, připravovaná legislativa a měkké skills pro pracovní rozvoj. Cílovou skupinou jsou majitelé a šéfové českých firem\, HR management\, studenti příbuzných oborů a veřejnost se zájmem o problematiku a vlastní rozvoj. Zároveň dvoudenní konferenci provází veletrh pracovních\npříležitostí. O záštitu žádáme prezidenta Petra Pavla\, který by summit zahájil. Mediálním partnerem je také Česká televize. \n 
URL:https://www.upcz.cz/akce/konference-trendy-prace-2025/
LOCATION:HQ ČSOB\, Radlická\, Praha 5
CATEGORIES:Konference
END:VEVENT
BEGIN:VEVENT
DTSTART;TZID=Europe/Prague:20250522T080000
DTEND;TZID=Europe/Prague:20250522T173000
DTSTAMP:20260422T203438
CREATED:20241205T090642Z
LAST-MODIFIED:20241205T090642Z
UID:44674-1747900800-1747935000@www.upcz.cz
SUMMARY:Konference HR Know How 2025 | Lidé a kultura | HR výzvy pro budoucnost
DESCRIPTION:S nově nastupující generací roste důležitost vytváření pozitivního pracovního prostředí\, které podpoří zapojení a udržení zaměstnanců. Před HR tak stojí otázky\, jak vytvořit firemní kulturu\, která zajišťuje požadavky zaměstnanců na flexibilitu\, work-life balance a wellbeing\, oceňuje jejich práci a podporuje jejich profesní rozvoj tak\, aby firmy byly připravené na nové výzvy. Inspiraci pro jejich řešení s vámi budou sdílet na přednáškách\, workshopech i v panelové diskuzi naši hosté.
URL:https://www.upcz.cz/akce/konference-hr-know-how-2025-lide-a-kultura-hr-vyzvy-pro-budoucnost/
LOCATION:Grandior Prague Hotel
CATEGORIES:Konference
END:VEVENT
BEGIN:VEVENT
DTSTART;TZID=Europe/Prague:20250527T090000
DTEND;TZID=Europe/Prague:20250527T143500
DTSTAMP:20260422T203438
CREATED:20250325T164546Z
LAST-MODIFIED:20250325T164649Z
UID:46528-1748336400-1748356500@www.upcz.cz
SUMMARY:In-Comms Forum 2025
DESCRIPTION:Na konferenci In-Comms Forum se zaměříme na nejnovější trendy\, nástroje a strategie\, které podporují efektivní komunikaci uvnitř firem a přispívají k motivaci zaměstnanců\, posilování firemní kultury i zvyšování produktivity. Podíváme se na důležitou roli leaderů v komunikaci\, krizovou komunikaci v období změn\, digitalizaci komunikačních procesů i segmentaci sdělení podle potřeb týmů a různých skupin zaměstnanců.
URL:https://www.upcz.cz/akce/in-comms-forum-2025/
LOCATION:MS Teams
CATEGORIES:Konference
END:VEVENT
BEGIN:VEVENT
DTSTART;TZID=Europe/Prague:20250527T093000
DTEND;TZID=Europe/Prague:20250527T140000
DTSTAMP:20260422T203438
CREATED:20241128T104109Z
LAST-MODIFIED:20241128T104109Z
UID:44328-1748338200-1748354400@www.upcz.cz
SUMMARY:HR CONGRESS v Praze - mezigenerační soužití na pracovišti
DESCRIPTION:HR SETKÁNÍ NAŽIVO
URL:https://www.upcz.cz/akce/hr-congress-v-praze-mezigeneracni-souziti-na-pracovisti/
LOCATION:Grandior Prague Hotel
CATEGORIES:Konference
END:VEVENT
BEGIN:VEVENT
DTSTART;TZID=Europe/Prague:20250528T090000
DTEND;TZID=Europe/Prague:20250528T150000
DTSTAMP:20260422T203438
CREATED:20250417T093447Z
LAST-MODIFIED:20250417T093447Z
UID:47180-1748422800-1748444400@www.upcz.cz
SUMMARY:Ďábelské změny v zaměstnávání 2025: výpovědi\, monitoring\, PLS
DESCRIPTION:Na personalisty a zaměstnavatele se už v červnu řítí přímo ďábelské změny v zaměstnávání! Jste připraveni na divoké změny v propouštění? Výpovědi poběží IHNED\, od 1. dne doručení\, takže se už nebude čekat na konec měsíce. Budete muset upravit stávající pracovní smlouvy? Co dalšího přinese velká flexinovela zákoníku práce\, která by měla platit už v červnu 2025? Velkou novinkou je také povinný monitoring zaměstnanců! Diktuje ho nový zákon o kybernetické bezpečnosti\, jak to ale dělat v praxi a neporušit GDPR\, zákoník práce i občanský zákoník? 1. 6. pak odstartuje revoluce v pracovnělékařských službách. Už žádné vstupní prohlídky\, ale pozor na dopady u výpovědi při ztrátě zdravotní způsobilosti. Zásadní budou rovné platy. Jak se s tím v praxi poprat? Přijďte si pro všechny zásadní změny na konferenci\, kde se vše během jednoho dne dozvíte.
URL:https://www.upcz.cz/akce/dabelske-zmeny-v-zamestnavani-2025-vypovedi-monitoring-pls/
LOCATION:Praha\, Hotel Olympik
CATEGORIES:Konference
ORGANIZER;CN="Nakladatelstv%C3%AD FORUM s.r.o.":MAILTO:office@forum-media.cz
END:VEVENT
BEGIN:VEVENT
DTSTART;VALUE=DATE:20250529
DTEND;VALUE=DATE:20250530
DTSTAMP:20260422T203438
CREATED:20250526T144028Z
LAST-MODIFIED:20250526T144028Z
UID:48157-1748476800-1748563199@www.upcz.cz
SUMMARY:Konference Řízená evoluce
DESCRIPTION:2025: JAK POSÍLIT  ADAPTABILITU  FIRMY \nNejvýraznější česká událost o dosahování změn ve firmách. \nMísto k promýšlení klíčových témat v rozvoji firem do hloubky.\nSetkávání lídrů\, atmosféra sdílení\, autentické zkušenosti\, inspirace do praxe.\nOtevřené okno do světa synergické kultury spolupráce a řízené (r)evoluce firem. \n#RizenaEvoluce
URL:https://www.upcz.cz/akce/konference-rizena-evoluce/
LOCATION:Praha
CATEGORIES:Konference
END:VEVENT
BEGIN:VEVENT
DTSTART;TZID=Europe/Prague:20250529T090000
DTEND;TZID=Europe/Prague:20250529T133000
DTSTAMP:20260422T203438
CREATED:20241128T104206Z
LAST-MODIFIED:20241128T104206Z
UID:44330-1748509200-1748525400@www.upcz.cz
SUMMARY:HR CONGRESS v Ostravě - mezigenerační soužití na pracovišti
DESCRIPTION:HR SETKÁNÍ NAŽIVO
URL:https://www.upcz.cz/akce/hr-congress-v-ostrave-mezigeneracni-souziti-na-pracovisti/
LOCATION:Ostrava
CATEGORIES:Konference
END:VEVENT
END:VCALENDAR