BEGIN:VCALENDAR
VERSION:2.0
PRODID:-//Up Česká republika - ECPv6.15.20//NONSGML v1.0//EN
CALSCALE:GREGORIAN
METHOD:PUBLISH
X-WR-CALNAME:Up Česká republika
X-ORIGINAL-URL:https://www.upcz.cz
X-WR-CALDESC:Akce na Up Česká republika
REFRESH-INTERVAL;VALUE=DURATION:PT1H
X-Robots-Tag:noindex
X-PUBLISHED-TTL:PT1H
BEGIN:VTIMEZONE
TZID:Europe/Prague
BEGIN:DAYLIGHT
TZOFFSETFROM:+0100
TZOFFSETTO:+0200
TZNAME:CEST
DTSTART:20240331T010000
END:DAYLIGHT
BEGIN:STANDARD
TZOFFSETFROM:+0200
TZOFFSETTO:+0100
TZNAME:CET
DTSTART:20241027T010000
END:STANDARD
BEGIN:DAYLIGHT
TZOFFSETFROM:+0100
TZOFFSETTO:+0200
TZNAME:CEST
DTSTART:20250330T010000
END:DAYLIGHT
BEGIN:STANDARD
TZOFFSETFROM:+0200
TZOFFSETTO:+0100
TZNAME:CET
DTSTART:20251026T010000
END:STANDARD
BEGIN:DAYLIGHT
TZOFFSETFROM:+0100
TZOFFSETTO:+0200
TZNAME:CEST
DTSTART:20260329T010000
END:DAYLIGHT
BEGIN:STANDARD
TZOFFSETFROM:+0200
TZOFFSETTO:+0100
TZNAME:CET
DTSTART:20261025T010000
END:STANDARD
END:VTIMEZONE
BEGIN:VEVENT
DTSTART;VALUE=DATE:20251010
DTEND;VALUE=DATE:20251011
DTSTAMP:20260422T124134
CREATED:20241128T105309Z
LAST-MODIFIED:20241128T105309Z
UID:44346-1760054400-1760140799@www.upcz.cz
SUMMARY:Happiness@Work Live!
DESCRIPTION:11. ročník mezinárodní konference o leadershipu spojuje vizionářské lídry*ně\, kteří chtějí budovat úspěšné a prosperující firmy\, ve kterých je lidem skvěle. Objevte přelomové strategie předních světových společností a nejnovější vědecké poznatky\, které formují budoucnost práce. Na tomto místě se inspirace setkává s praktickými poznatky pro novou éru leadershipu.
URL:https://www.upcz.cz/akce/happinesswork-live-2/
LOCATION:Praha
CATEGORIES:Konference
END:VEVENT
BEGIN:VEVENT
DTSTART;VALUE=DATE:20251016
DTEND;VALUE=DATE:20251017
DTSTAMP:20260422T124134
CREATED:20241128T105428Z
LAST-MODIFIED:20241128T105428Z
UID:44348-1760572800-1760659199@www.upcz.cz
SUMMARY:HRko 2025: Show must go on
DESCRIPTION:Nejnašlapanější people & culture show ever!\n1000+ návštěvníků z HR\, businessu a managementu pod jednou střechou. V Ostravě. V Gongu.\nCelodenní nálož HR případovek\, nejmodernějších HR nástrojů zabalení do neskutečné show.\nUrčeno vás všechny\, kteří vedete lidi a chcete rozvíjet jejich potenciál.
URL:https://www.upcz.cz/akce/hrko-2025-show-must-go-on/
LOCATION:Ostrava
CATEGORIES:Konference
END:VEVENT
BEGIN:VEVENT
DTSTART;VALUE=DATE:20251022
DTEND;VALUE=DATE:20251023
DTSTAMP:20260422T124134
CREATED:20250811T122521Z
LAST-MODIFIED:20250811T122521Z
UID:49097-1761091200-1761177599@www.upcz.cz
SUMMARY:HREA SUMMIT 2025
DESCRIPTION:HR Excellence Award (HREA) je příležitostí představit a ocenit ty nejzajímavější a nejúspěšnější HR projekty\, které vznikly za uplynulých dvanáct měsíců. Celou událost připravujeme ve spolupráci s Asociací personalistů České republiky. Srdečně vás zveme na prezentace všech registrovaných\, kde budete mít možnost nahlédnout do konkrétních projektů a poslechnout si jejich příběhy přímo od tvůrců. I letos se můžete těšit na inovativní přístupy\, originální nápady a praktické inspirace\, které můžete využít ve své vlastní praxi.
URL:https://www.upcz.cz/akce/hrea-summit-2025/
LOCATION:Praha
CATEGORIES:Konference
END:VEVENT
END:VCALENDAR