BEGIN:VCALENDAR
VERSION:2.0
PRODID:-//Up Česká republika - ECPv6.15.20//NONSGML v1.0//EN
CALSCALE:GREGORIAN
METHOD:PUBLISH
X-WR-CALNAME:Up Česká republika
X-ORIGINAL-URL:https://www.upcz.cz
X-WR-CALDESC:Akce na Up Česká republika
REFRESH-INTERVAL;VALUE=DURATION:PT1H
X-Robots-Tag:noindex
X-PUBLISHED-TTL:PT1H
BEGIN:VTIMEZONE
TZID:Europe/Prague
BEGIN:DAYLIGHT
TZOFFSETFROM:+0100
TZOFFSETTO:+0200
TZNAME:CEST
DTSTART:20220327T010000
END:DAYLIGHT
BEGIN:STANDARD
TZOFFSETFROM:+0200
TZOFFSETTO:+0100
TZNAME:CET
DTSTART:20221030T010000
END:STANDARD
BEGIN:DAYLIGHT
TZOFFSETFROM:+0100
TZOFFSETTO:+0200
TZNAME:CEST
DTSTART:20230326T010000
END:DAYLIGHT
BEGIN:STANDARD
TZOFFSETFROM:+0200
TZOFFSETTO:+0100
TZNAME:CET
DTSTART:20231029T010000
END:STANDARD
BEGIN:DAYLIGHT
TZOFFSETFROM:+0100
TZOFFSETTO:+0200
TZNAME:CEST
DTSTART:20240331T010000
END:DAYLIGHT
BEGIN:STANDARD
TZOFFSETFROM:+0200
TZOFFSETTO:+0100
TZNAME:CET
DTSTART:20241027T010000
END:STANDARD
END:VTIMEZONE
BEGIN:VEVENT
DTSTART;VALUE=DATE:20231206
DTEND;VALUE=DATE:20231207
DTSTAMP:20260426T010235
CREATED:20231018T110122Z
LAST-MODIFIED:20231018T110122Z
UID:31583-1701820800-1701907199@www.upcz.cz
SUMMARY:Personalista 2024: škrty\, propouštění a další HR výzvy
DESCRIPTION:Personalisté\, připravte se na náročné výzvy\, které před vámi stojí v roce 2024. Vlna masivního propouštění startuje právě teď. Jak ji máte jako firma ustát? Jaké škrty ve vašem rozpočtu zapříčiní nemilosrdný konsolidační balíček? A co za požadavky na vás mohou nově vznášet vaši zaměstnanci? Postavte se čelem náročným úkolům\, které se na vás valí. Zúčastněte se unikátní konference šité na míru vašim potřebám.
URL:https://www.upcz.cz/akce/personalista-2024-skrty-propousteni-a-dalsi-hr-vyzvy/
LOCATION:Praha\, Hotel Olympik
CATEGORIES:Konference
ORGANIZER;CN="Nakladatelstv%C3%AD FORUM s.r.o.":MAILTO:office@forum-media.cz
END:VEVENT
BEGIN:VEVENT
DTSTART;VALUE=DATE:20231205
DTEND;VALUE=DATE:20231206
DTSTAMP:20260426T010235
CREATED:20231018T105751Z
LAST-MODIFIED:20231018T105751Z
UID:31581-1701734400-1701820799@www.upcz.cz
SUMMARY:Konsolidační balíček 2024: Jak zmírnit dopady na Vaši firmu
DESCRIPTION:Konsolidační balíček přináší řadu změn\, které budou mít výrazný dopad na vaše finance! Zvyšuje se daň z příjmu\, ruší se zaměstnanecké benefity a seškrtaly se i daňové výjimky. To je jen zlomek změn\, které zamávají s vaším rozpočtem. Jaká opatření musíte v rámci firmy nastavit ještě v roce 2023 a 2024 abyste ušetřili na 2% navýšení daně? A na jaké další změny si musíte dát pozor v rámci ozdravného balíčku? Povíme na konferenci.
URL:https://www.upcz.cz/akce/konsolidacni-balicek-2024-jak-zmirnit-dopady-na-vasi-firmu/
LOCATION:Praha\, Hotel Olympik
CATEGORIES:Konference
ORGANIZER;CN="Nakladatelstv%C3%AD FORUM s.r.o.":MAILTO:office@forum-media.cz
END:VEVENT
BEGIN:VEVENT
DTSTART;VALUE=DATE:20231130
DTEND;VALUE=DATE:20231201
DTSTAMP:20260426T010235
CREATED:20230913T092205Z
LAST-MODIFIED:20230913T092205Z
UID:30913-1701302400-1701388799@www.upcz.cz
SUMMARY:Personalistika 2024
DESCRIPTION:Konferenci pořádá Unie zaměstnavatelských svazů ČR a Svaz personalistů ČR \nLetošní ročník konferencí bude zaměřen na nejpalčivější oblasti personalistiky\, jako je kvalitní personální řízení a využívání nástrojů k jeho větší efektivitě\, nedostatek kvalifikovaných zaměstnanců (a zaměstnanců obecně)\, dopady novel zákoníku práce a zákona o zaměstnanosti na práci s lidskými zdroji\, personální řízení a cena práce v České republice\, a další. \nCílem konference je stanovit zásadní témata a směr\, kterým se personalistika v naší zemi bude ubírat v následujícím roce. Nedílnou součástí setkání je propojení personalistů s těmi\, kteří tvoří legislativní zázemí pro implementaci klíčových změn – zástupci vlády a Parlamentu ČR.
URL:https://www.upcz.cz/akce/personalistika-2024-2/
LOCATION:Grandium Hotel Prague\, Politických vězňů 913/12\, Praha 1\, Česká republika
CATEGORIES:Konference
END:VEVENT
BEGIN:VEVENT
DTSTART;TZID=Europe/Prague:20231123T090000
DTEND;TZID=Europe/Prague:20231123T140000
DTSTAMP:20260426T010235
CREATED:20230913T091056Z
LAST-MODIFIED:20230913T091056Z
UID:30903-1700730000-1700748000@www.upcz.cz
SUMMARY:Legislativní forum 2023
DESCRIPTION:O čem budeme mluvit: \n\nNovela zákoníku práce – vystoupí Mgr. Dana Roučková\, vrchní ředitelka odboru legislativy\, MPSV\nJak vidí pracovně právní legislativu zaměstnavatel – oslovujeme zástupce zaměstnavatelů\nPanelová diskuse: Cybersecurity – nebezpečí úniku dat – jak se na to připravit\, jak to zvládnout – mimo jiné vysroupí irma\, zástupce Úřadu pro ochranu osobních údajů\, JUDr. Richard Otevřel\, Havel Partners\, Fair data partners\, oslovujeme firmu a zástupce NUKIB\nPanelová diskuse: Kam právo (ne)může aneb Whistleblowing a šikana a diskriminace na pracovišti – pomůže whistleblowing při ochraně zaměstnanců a vytváření lepších vztahů? – JUDr. Petra Sochorová\, Noerr\, advokátní kancelář\, Jiří Devát\, exprezident Microsoft a Cisco\, spoluzakladatel a předseda správní rady Nadačního fondu Filantia\nPanelová diskuse: Zaměstnávání cizinců – oslovujeme personální agenturu\, zástupce firem a advokátní kanceláře
URL:https://www.upcz.cz/akce/legislativni-forum-2023/
LOCATION:Konferenční sál MŠMT\, Karmelitská 529/7\, Praha 1\, Česká republika
CATEGORIES:Konference
END:VEVENT
BEGIN:VEVENT
DTSTART;VALUE=DATE:20231123
DTEND;VALUE=DATE:20231124
DTSTAMP:20260426T010235
CREATED:20230927T114414Z
LAST-MODIFIED:20230927T114414Z
UID:31243-1700697600-1700783999@www.upcz.cz
SUMMARY:Ryba smrdí od hlavy
DESCRIPTION:NEJSME JEN KONFERENCE\, JSME KOMUNITA\nDíky MOBILNÍ APLIKACI Ryba smrdí od hlavy jsme v kontaktu již nyní! Oslovte ostatní účastníky již TEĎ a nečekejte na listopad! V apce budete mít také záznamy z přednášek a workshopů po skončení konference. Už teď můžete soutěžit v RELAX ZÓNĚ.\n\nAppku stáhnete klasicky na Google Play či App store.\n11 ŘEČNÍKŮ Z PRAXE\nChybí vám inspirace? Pojďte ji nasbírat. Cílem naší konference je představit vám teorii podepřenou praxí. \n8 PRAKTICKÝCH WORKSHOPŮ\nTréning dělá mistry! Dovednosti\, které na workshopech získáte\, jednoduše převedete do praxe\, protože si je přímo na workshopu pod vedením odtrénujete. \n35 KOUČŮ\nMáte možnost využít hodinu koučinku přímo na konferenci nebo si domluvte svou hodinu s koučem v čase\, který vám bude vyhovovat více.
URL:https://www.upcz.cz/akce/ryba-smrdi-od-hlavy/
CATEGORIES:Konference
END:VEVENT
BEGIN:VEVENT
DTSTART;VALUE=DATE:20231123
DTEND;VALUE=DATE:20231124
DTSTAMP:20260426T010235
CREATED:20230913T091552Z
LAST-MODIFIED:20230913T091853Z
UID:30908-1700697600-1700783999@www.upcz.cz
SUMMARY:Personalistika 2024
DESCRIPTION:Konferenci pořádá Unie zaměstnavatelských svazů ČR a Svaz personalistů ČR \nLetošní ročník konferencí bude zaměřen na nejpalčivější oblasti personalistiky\, jako je kvalitní personální řízení a využívání nástrojů k jeho větší efektivitě\, nedostatek kvalifikovaných zaměstnanců (a zaměstnanců obecně)\, dopady novel zákoníku práce a zákona o zaměstnanosti na práci s lidskými zdroji\, personální řízení a cena práce v České republice\, a další. \nCílem konference je stanovit zásadní témata a směr\, kterým se personalistika v naší zemi bude ubírat v následujícím roce. Nedílnou součástí setkání je propojení personalistů s těmi\, kteří tvoří legislativní zázemí pro implementaci klíčových změn – zástupci vlády a Parlamentu ČR.
URL:https://www.upcz.cz/akce/personalistika-2024/
LOCATION:Imperial hotel\, Tyršova 1250\, Ostrava\, Česká republika
CATEGORIES:Konference
END:VEVENT
BEGIN:VEVENT
DTSTART;VALUE=DATE:20231115
DTEND;VALUE=DATE:20231116
DTSTAMP:20260426T010235
CREATED:20231018T105554Z
LAST-MODIFIED:20231018T105908Z
UID:31578-1700006400-1700092799@www.upcz.cz
SUMMARY:Legislativní palba 2024: novela zákoníku práce a zákona o zaměstnanosti
DESCRIPTION:Personalisté\, připravte se na náročné výzvy\, které před vámi stojí v roce 2024. Vlna masivního propouštění startuje právě teď. Jak ji máte jako firma ustát? Jaké škrty ve vašem rozpočtu zapříčiní nemilosrdný konsolidační balíček? A co za požadavky na vás mohou nově vznášet vaši zaměstnanci? Postavte se čelem náročným úkolům\, které se na vás valí. Zúčastněte se unikátní konference šité na míru vašim potřebám.
URL:https://www.upcz.cz/akce/legislativni-palba-2024-novela-zakoniku-prace-a-zakona-o-zamestnanosti/
LOCATION:Praha\, Hotel Olympik
CATEGORIES:Konference
ORGANIZER;CN="Nakladatelstv%C3%AD FORUM s.r.o.":MAILTO:office@forum-media.cz
END:VEVENT
BEGIN:VEVENT
DTSTART;VALUE=DATE:20231102
DTEND;VALUE=DATE:20231103
DTSTAMP:20260426T010235
CREATED:20230323T195853Z
LAST-MODIFIED:20230323T195853Z
UID:28020-1698883200-1698969599@www.upcz.cz
SUMMARY:Evolve Summit
DESCRIPTION:
URL:https://www.upcz.cz/akce/evolve-summit/
CATEGORIES:Konference
END:VEVENT
BEGIN:VEVENT
DTSTART;VALUE=DATE:20231026
DTEND;VALUE=DATE:20231027
DTSTAMP:20260426T010235
CREATED:20230912T141955Z
LAST-MODIFIED:20230912T141955Z
UID:30893-1698278400-1698364799@www.upcz.cz
SUMMARY:HREA SUMMIT
DESCRIPTION:Využijte jedinečnou možnost seznámit se v jediném dni s bezmála 40 HR projekty přihlášenými do soutěže HR Excellence Award\, inspirovat se jimi a diskutovat s jejich autory. V závěru se uskuteční slavnostní vyhlášení všech kategorií soutěže a předání cen včetně Ceny veřejnosti\, o které budou na místě hlasovat účastníci v sále.
URL:https://www.upcz.cz/akce/hrea-summit/
CATEGORIES:Konference
END:VEVENT
BEGIN:VEVENT
DTSTART;VALUE=DATE:20231019
DTEND;VALUE=DATE:20231020
DTSTAMP:20260426T010235
CREATED:20230323T195810Z
LAST-MODIFIED:20230323T195810Z
UID:28018-1697673600-1697759999@www.upcz.cz
SUMMARY:Happiness@Work Live!
DESCRIPTION:
URL:https://www.upcz.cz/akce/happinesswork-live/
CATEGORIES:Konference
END:VEVENT
BEGIN:VEVENT
DTSTART;VALUE=DATE:20231012
DTEND;VALUE=DATE:20231013
DTSTAMP:20260426T010235
CREATED:20230323T195706Z
LAST-MODIFIED:20230323T195706Z
UID:28016-1697068800-1697155199@www.upcz.cz
SUMMARY:HRko v Ostravě
DESCRIPTION:
URL:https://www.upcz.cz/akce/hrko-v-ostrave/
CATEGORIES:Konference
END:VEVENT
BEGIN:VEVENT
DTSTART;VALUE=DATE:20231005
DTEND;VALUE=DATE:20231006
DTSTAMP:20260426T010235
CREATED:20230901T085425Z
LAST-MODIFIED:20230901T085425Z
UID:30757-1696464000-1696550399@www.upcz.cz
SUMMARY:HR business partner
DESCRIPTION:Máte na starosti řízení a plánování strategického rozvoje v oblasti HR? Zodpovídáte za veškeré procesy v HR včetně mzdové firemní politiky? Staráte se o rozvoj zaměstnanců a budete i letos připravovat plán vzdělávání na rok 2024? Stíháte sledovat a implementovat překotné legislativní změny v oblasti pracovního práva? Reportujete výsledky vašeho oddělení vedení společnosti? Zúčastněte se celostátní konference HR business partner.
URL:https://www.upcz.cz/akce/hr-business-partner/
LOCATION:Praha\, Hotel Olympik
CATEGORIES:Konference
END:VEVENT
BEGIN:VEVENT
DTSTART;VALUE=DATE:20231005
DTEND;VALUE=DATE:20231006
DTSTAMP:20260426T010235
CREATED:20230323T195626Z
LAST-MODIFIED:20230323T195626Z
UID:28014-1696464000-1696550399@www.upcz.cz
SUMMARY:human brand
DESCRIPTION:
URL:https://www.upcz.cz/akce/human-brand/
CATEGORIES:Konference
END:VEVENT
BEGIN:VEVENT
DTSTART;TZID=Europe/Prague:20230928T080000
DTEND;TZID=Europe/Prague:20230929T170000
DTSTAMP:20260426T010235
CREATED:20230927T114103Z
LAST-MODIFIED:20230927T114103Z
UID:31241-1695888000-1696006800@www.upcz.cz
SUMMARY:HUMAN RELATIONS
DESCRIPTION:HUMAN RELATIONS – HR SA MENÍ A MY S NÍM\nPrvá slovenská interaktívna konferencia zameraná na vzťahy vo firmách a organizáciách\, ktorú môžete zažiť prezenčne v hoteli Château Gbeľany alebo cez online prenos z pohodlia Vášho domova alebo kancelárie.\nDva dni konferencie sa budú niesť v tematickom zameraní sa na HR Marketing. Program vás prehľadne prevedie tematickými aspektmi HR Marketingu od začiatku do konca. Prednášky budú logicky nadväzovať na seba\, vytvárajúc tak jednotnú líniu diskusie.\nZačneme interným pohľadom do firemného prostredia a postupne sa posunieme k externej komunikácii zamestnávateľskej značky. Zameriame sa na prípadové štúdie z reálneho firemného prostredia. Veľký dôraz budeme klásť na prax a praktické aplikácie.\nProstredníctvom konferencie získate ucelený prehľad o súčasných trendoch v oblasti HR Marketingu a budete mať možnosť inšpirovať sa a využiť tieto poznatky vo svojej každodennej práci.\nPodujatie určené pre CEO\, majiteľov\, riaditeľov\, marketingových manažérov\, brand manažérov\, personalistov\, vedúcich pracovníkov.
URL:https://www.upcz.cz/akce/human-relations/
CATEGORIES:Konference
END:VEVENT
BEGIN:VEVENT
DTSTART;TZID=Europe/Prague:20230921T130000
DTEND;TZID=Europe/Prague:20230921T180000
DTSTAMP:20260426T010235
CREATED:20230530T074124Z
LAST-MODIFIED:20230530T074124Z
UID:29188-1695301200-1695319200@www.upcz.cz
SUMMARY:HR Byznys Forum
DESCRIPTION:AI a digitalizace v HR mění byznys\nUkážeme si\, jaké nám nové technologie přináší výhody\, ale také nezapomeneme na jejich limity. \nDigitální technologie mění náš svět\, ať se nám to líbí nebo ne. AI\, VR\, roboti  – všechny druhy technologií se sbližují a tempo změn nikdy nebylo tak rychlé. Aby nám tyto technologie mohli pomáhat\, musíme je přijmout a najít způsoby\, jak je integrovat do svých procesů.
URL:https://www.upcz.cz/akce/hr-byznys-forum/
LOCATION:budova JIC\, Purkyňova\, 621 00 Brno-Medlánky
CATEGORIES:Konference
END:VEVENT
BEGIN:VEVENT
DTSTART;VALUE=DATE:20230920
DTEND;VALUE=DATE:20230921
DTSTAMP:20260426T010235
CREATED:20230630T074302Z
LAST-MODIFIED:20230630T074302Z
UID:29907-1695168000-1695254399@www.upcz.cz
SUMMARY:Lidský kapitál
DESCRIPTION:O konferenci\nLidský kapitál je konference určená lidem ve vedení firem a těm\, kdo jsou přímo odpovědní za agendu práce se zaměstnanci. Program reflektuje aktuální i strategická témata a cílí na ty\, kdo nevnímají lidi pouze jako zdroje\, ale jako dlouhodobou investici pro celkovou prosperitu firem. \nJaké je letos hlavní téma konference?\nRok 2023 se dál nese ve znamení napjatých rozpočtů domácností i firem. Hledání efektivity a úspor\, psychické zdraví nebo dobře nastavená komunikace\, to jsou témata\, která rezonují na straně lidí i firem. V čem konkrétně se doba podepsala na proměně jejich potřeb\, kde se tyto potřeby rozcházejí a kde naopak vytváří synergie pro rozvoj byznysu\, bude hlavním tématem letošního ročníku konference. \nKdo na konferenci najde inspiraci\nProgram konference cílí na profesionály a profesionálky z oblasti práce s lidmi (HR/People/Culture/Diversity Director) a vedení firem\, a to z širokého spektra odvětví.
URL:https://www.upcz.cz/akce/lidsky-kapital/
LOCATION:ČNB\, Praha
CATEGORIES:Konference
END:VEVENT
BEGIN:VEVENT
DTSTART;TZID=Europe/Prague:20230615T080000
DTEND;TZID=Europe/Prague:20230630T170000
DTSTAMP:20260426T010235
CREATED:20230615T064538Z
LAST-MODIFIED:20230615T064538Z
UID:29597-1686816000-1688144400@www.upcz.cz
SUMMARY:Přihlášky do soutěže HREA Exellent Award
DESCRIPTION:Soutěž o nejlepší HR projekt\, přihlašování je možné do 30.06.2023 přes web https://hrea.cz/ –
URL:https://www.upcz.cz/akce/prihlasky-do-souteze-hrea-exellent-award/
CATEGORIES:Konference
END:VEVENT
BEGIN:VEVENT
DTSTART;VALUE=DATE:20230614
DTEND;VALUE=DATE:20230615
DTSTAMP:20260426T010235
CREATED:20230323T195544Z
LAST-MODIFIED:20230323T195544Z
UID:28012-1686700800-1686787199@www.upcz.cz
SUMMARY:Firemní vzdělávání 2023
DESCRIPTION:
URL:https://www.upcz.cz/akce/firemni-vzdelavani-2023/
CATEGORIES:Konference
END:VEVENT
BEGIN:VEVENT
DTSTART;VALUE=DATE:20230613
DTEND;VALUE=DATE:20230614
DTSTAMP:20260426T010235
CREATED:20230323T195503Z
LAST-MODIFIED:20230323T195503Z
UID:28010-1686614400-1686700799@www.upcz.cz
SUMMARY:HR CONGRESS v Praze
DESCRIPTION:
URL:https://www.upcz.cz/akce/hr-congress-v-praze/
CATEGORIES:Konference
END:VEVENT
BEGIN:VEVENT
DTSTART;VALUE=DATE:20230530
DTEND;VALUE=DATE:20230531
DTSTAMP:20260426T010235
CREATED:20230323T142528Z
LAST-MODIFIED:20230323T142709Z
UID:28006-1685404800-1685491199@www.upcz.cz
SUMMARY:HR CONGRESS v Ostravě
DESCRIPTION:
URL:https://www.upcz.cz/akce/hr-congress-v-ostrave/
CATEGORIES:Konference
END:VEVENT
BEGIN:VEVENT
DTSTART;VALUE=DATE:20230518
DTEND;VALUE=DATE:20230519
DTSTAMP:20260426T010235
CREATED:20230323T142452Z
LAST-MODIFIED:20230323T142709Z
UID:28004-1684368000-1684454399@www.upcz.cz
SUMMARY:HR Know How
DESCRIPTION:
URL:https://www.upcz.cz/akce/hr-know-how/
CATEGORIES:Konference
END:VEVENT
BEGIN:VEVENT
DTSTART;VALUE=DATE:20230517
DTEND;VALUE=DATE:20230519
DTSTAMP:20260426T010235
CREATED:20230323T142359Z
LAST-MODIFIED:20230323T142710Z
UID:28002-1684281600-1684454399@www.upcz.cz
SUMMARY:Performia 2023
DESCRIPTION:
URL:https://www.upcz.cz/akce/performia-2023/
CATEGORIES:Konference
END:VEVENT
BEGIN:VEVENT
DTSTART;VALUE=DATE:20230516
DTEND;VALUE=DATE:20230517
DTSTAMP:20260426T010235
CREATED:20230323T142309Z
LAST-MODIFIED:20230323T142711Z
UID:28000-1684195200-1684281599@www.upcz.cz
SUMMARY:HR Summit
DESCRIPTION:
URL:https://www.upcz.cz/akce/hr-summit/
CATEGORIES:Konference
END:VEVENT
BEGIN:VEVENT
DTSTART;VALUE=DATE:20230425
DTEND;VALUE=DATE:20230426
DTSTAMP:20260426T010235
CREATED:20230328T124956Z
LAST-MODIFIED:20230328T124956Z
UID:28141-1682380800-1682467199@www.upcz.cz
SUMMARY:Péče o zdraví
DESCRIPTION:
URL:https://www.upcz.cz/akce/pece-o-zdravi/
CATEGORIES:Konference
END:VEVENT
BEGIN:VEVENT
DTSTART;VALUE=DATE:20230420
DTEND;VALUE=DATE:20230421
DTSTAMP:20260426T010235
CREATED:20230328T124702Z
LAST-MODIFIED:20230328T124736Z
UID:28138-1681948800-1682035199@www.upcz.cz
SUMMARY:Bez bolesti není růstu
DESCRIPTION:
URL:https://www.upcz.cz/akce/bez-bolesti-neni-rustu/
LOCATION:Spojka Events Karlín\, Česká republika
CATEGORIES:Konference
END:VEVENT
BEGIN:VEVENT
DTSTART;VALUE=DATE:20230420
DTEND;VALUE=DATE:20230421
DTSTAMP:20260426T010235
CREATED:20230323T142235Z
LAST-MODIFIED:20230323T142711Z
UID:27998-1681948800-1682035199@www.upcz.cz
SUMMARY:HR Breakfest v Praze
DESCRIPTION:
URL:https://www.upcz.cz/akce/hr-breakfest-v-praze-2/
CATEGORIES:Konference
END:VEVENT
BEGIN:VEVENT
DTSTART;VALUE=DATE:20230419
DTEND;VALUE=DATE:20230420
DTSTAMP:20260426T010235
CREATED:20230323T142156Z
LAST-MODIFIED:20230323T142712Z
UID:27996-1681862400-1681948799@www.upcz.cz
SUMMARY:HR CONGRESS v Hradci Králové
DESCRIPTION:
URL:https://www.upcz.cz/akce/hr-congress-v-hradci-kralove/
CATEGORIES:Konference
END:VEVENT
BEGIN:VEVENT
DTSTART;VALUE=DATE:20230413
DTEND;VALUE=DATE:20230414
DTSTAMP:20260426T010235
CREATED:20230323T142121Z
LAST-MODIFIED:20230323T142713Z
UID:27994-1681344000-1681430399@www.upcz.cz
SUMMARY:HR (R) Evoluce
DESCRIPTION:
URL:https://www.upcz.cz/akce/hr-r-evoluce/
CATEGORIES:Konference
END:VEVENT
BEGIN:VEVENT
DTSTART;VALUE=DATE:20230323
DTEND;VALUE=DATE:20230324
DTSTAMP:20260426T010235
CREATED:20230323T141815Z
LAST-MODIFIED:20230323T142714Z
UID:27992-1679529600-1679615999@www.upcz.cz
SUMMARY:Exchange meeting v KBC Global Services
DESCRIPTION:
URL:https://www.upcz.cz/akce/exchange-meeting-v-kbc-global-services/
CATEGORIES:Konference
END:VEVENT
BEGIN:VEVENT
DTSTART;VALUE=DATE:20230323
DTEND;VALUE=DATE:20230324
DTSTAMP:20260426T010235
CREATED:20230323T141742Z
LAST-MODIFIED:20230323T142714Z
UID:27990-1679529600-1679615999@www.upcz.cz
SUMMARY:Konference Fenomén
DESCRIPTION:
URL:https://www.upcz.cz/akce/konference-fenomen/
CATEGORIES:Konference
END:VEVENT
END:VCALENDAR