BEGIN:VCALENDAR
VERSION:2.0
PRODID:-//Up Česká republika - ECPv6.15.20//NONSGML v1.0//EN
CALSCALE:GREGORIAN
METHOD:PUBLISH
X-WR-CALNAME:Up Česká republika
X-ORIGINAL-URL:https://www.upcz.cz
X-WR-CALDESC:Akce na Up Česká republika
REFRESH-INTERVAL;VALUE=DURATION:PT1H
X-Robots-Tag:noindex
X-PUBLISHED-TTL:PT1H
BEGIN:VTIMEZONE
TZID:Europe/Prague
BEGIN:DAYLIGHT
TZOFFSETFROM:+0100
TZOFFSETTO:+0200
TZNAME:CEST
DTSTART:20250330T010000
END:DAYLIGHT
BEGIN:STANDARD
TZOFFSETFROM:+0200
TZOFFSETTO:+0100
TZNAME:CET
DTSTART:20251026T010000
END:STANDARD
BEGIN:DAYLIGHT
TZOFFSETFROM:+0100
TZOFFSETTO:+0200
TZNAME:CEST
DTSTART:20260329T010000
END:DAYLIGHT
BEGIN:STANDARD
TZOFFSETFROM:+0200
TZOFFSETTO:+0100
TZNAME:CET
DTSTART:20261025T010000
END:STANDARD
BEGIN:DAYLIGHT
TZOFFSETFROM:+0100
TZOFFSETTO:+0200
TZNAME:CEST
DTSTART:20270328T010000
END:DAYLIGHT
BEGIN:STANDARD
TZOFFSETFROM:+0200
TZOFFSETTO:+0100
TZNAME:CET
DTSTART:20271031T010000
END:STANDARD
END:VTIMEZONE
BEGIN:VEVENT
DTSTART;TZID=Europe/Prague:20260414T000000
DTEND;TZID=Europe/Prague:20260415T235959
DTSTAMP:20260422T092550
CREATED:20260318T100745Z
LAST-MODIFIED:20260318T100745Z
UID:55577-1776124800-1776297599@www.upcz.cz
SUMMARY:Pracovní právo a personalistika 2026
DESCRIPTION:Konference
URL:https://www.upcz.cz/akce/pracovni-pravo-a-personalistika-2026/
LOCATION:Valeč\, Hotel Zámek Valeč
CATEGORIES:Konference
END:VEVENT
BEGIN:VEVENT
DTSTART;TZID=Europe/Prague:20260415T083000
DTEND;TZID=Europe/Prague:20260415T113000
DTSTAMP:20260422T092550
CREATED:20260318T104351Z
LAST-MODIFIED:20260318T104351Z
UID:55580-1776241800-1776252600@www.upcz.cz
SUMMARY:Regionální legislativní forum Ostrava | Rovné odměňování v praxi
DESCRIPTION:Konference
URL:https://www.upcz.cz/akce/regionalni-legislativni-forum-ostrava-rovne-odmenovani-v-praxi/
LOCATION:Ostrava
CATEGORIES:Konference
END:VEVENT
BEGIN:VEVENT
DTSTART;TZID=Europe/Prague:20260417T083000
DTEND;TZID=Europe/Prague:20260417T120000
DTSTAMP:20260422T092550
CREATED:20260326T115717Z
LAST-MODIFIED:20260326T115717Z
UID:55602-1776414600-1776427200@www.upcz.cz
SUMMARY:HR kulatý stůl
DESCRIPTION:Konference
URL:https://www.upcz.cz/akce/hr-kulaty-stul/
LOCATION:Praha
CATEGORIES:Konference
END:VEVENT
BEGIN:VEVENT
DTSTART;TZID=Europe/Prague:20260423T090000
DTEND;TZID=Europe/Prague:20260423T160000
DTSTAMP:20260422T092550
CREATED:20260318T123910Z
LAST-MODIFIED:20260318T123910Z
UID:55599-1776934800-1776960000@www.upcz.cz
SUMMARY:HR & Business Summit 2026
DESCRIPTION:Konference
URL:https://www.upcz.cz/akce/hr-business-summit-2026/
LOCATION:České Budějovice
CATEGORIES:Konference
END:VEVENT
BEGIN:VEVENT
DTSTART;TZID=Europe/Prague:20260519T000000
DTEND;TZID=Europe/Prague:20260520T235959
DTSTAMP:20260422T092550
CREATED:20260325T205348Z
LAST-MODIFIED:20260325T205348Z
UID:56043-1779148800-1779321599@www.upcz.cz
SUMMARY:Connector - 13. mezinárodní konference o koučinku
DESCRIPTION:Konference
URL:https://www.upcz.cz/akce/connector-13-mezinarodni-konference-o-koucinku/
LOCATION:Praha
CATEGORIES:Konference
END:VEVENT
BEGIN:VEVENT
DTSTART;TZID=Europe/Prague:20260520T000000
DTEND;TZID=Europe/Prague:20260521T235959
DTSTAMP:20260422T092550
CREATED:20260325T205556Z
LAST-MODIFIED:20260325T205556Z
UID:56045-1779235200-1779407999@www.upcz.cz
SUMMARY:Probuďte sílu svého týmu - konference Performia 2026
DESCRIPTION:Konference
URL:https://www.upcz.cz/akce/probudte-silu-sveho-tymu-konference-performia-2026/
LOCATION:Čestlice u Prahy
CATEGORIES:Konference
END:VEVENT
BEGIN:VEVENT
DTSTART;TZID=Europe/Prague:20260617T100000
DTEND;TZID=Europe/Prague:20260617T180000
DTSTAMP:20260422T092550
CREATED:20260326T090154Z
LAST-MODIFIED:20260326T090154Z
UID:56054-1781690400-1781719200@www.upcz.cz
SUMMARY:LEARN & DEV 2026
DESCRIPTION:Konference
URL:https://www.upcz.cz/akce/learn-dev-2026/
LOCATION:Praha
CATEGORIES:Konference
END:VEVENT
BEGIN:VEVENT
DTSTART;TZID=Europe/Prague:20260917T120000
DTEND;TZID=Europe/Prague:20260917T180000
DTSTAMP:20260422T092550
CREATED:20260326T092709Z
LAST-MODIFIED:20260326T092709Z
UID:56056-1789646400-1789668000@www.upcz.cz
SUMMARY:LEARN & TECH 2026
DESCRIPTION:Konference
URL:https://www.upcz.cz/akce/learn-tech-2026/
LOCATION:Praha
CATEGORIES:Konference
END:VEVENT
BEGIN:VEVENT
DTSTART;TZID=Europe/Prague:20261105T000000
DTEND;TZID=Europe/Prague:20261105T235959
DTSTAMP:20260422T092550
CREATED:20260326T114529Z
LAST-MODIFIED:20260326T114529Z
UID:56070-1793836800-1793923199@www.upcz.cz
SUMMARY:EVOLVE! Summit
DESCRIPTION:Konference
URL:https://www.upcz.cz/akce/evolve-summit-2/
LOCATION:Brno
CATEGORIES:Konference
END:VEVENT
END:VCALENDAR