BEGIN:VCALENDAR
VERSION:2.0
PRODID:-//Up Česká republika - ECPv6.15.20//NONSGML v1.0//EN
CALSCALE:GREGORIAN
METHOD:PUBLISH
X-ORIGINAL-URL:https://www.upcz.cz
X-WR-CALDESC:Akce na Up Česká republika
REFRESH-INTERVAL;VALUE=DURATION:PT1H
X-Robots-Tag:noindex
X-PUBLISHED-TTL:PT1H
BEGIN:VTIMEZONE
TZID:Europe/Prague
BEGIN:DAYLIGHT
TZOFFSETFROM:+0100
TZOFFSETTO:+0200
TZNAME:CEST
DTSTART:20230326T010000
END:DAYLIGHT
BEGIN:STANDARD
TZOFFSETFROM:+0200
TZOFFSETTO:+0100
TZNAME:CET
DTSTART:20231029T010000
END:STANDARD
BEGIN:DAYLIGHT
TZOFFSETFROM:+0100
TZOFFSETTO:+0200
TZNAME:CEST
DTSTART:20240331T010000
END:DAYLIGHT
BEGIN:STANDARD
TZOFFSETFROM:+0200
TZOFFSETTO:+0100
TZNAME:CET
DTSTART:20241027T010000
END:STANDARD
BEGIN:DAYLIGHT
TZOFFSETFROM:+0100
TZOFFSETTO:+0200
TZNAME:CEST
DTSTART:20250330T010000
END:DAYLIGHT
BEGIN:STANDARD
TZOFFSETFROM:+0200
TZOFFSETTO:+0100
TZNAME:CET
DTSTART:20251026T010000
END:STANDARD
END:VTIMEZONE
BEGIN:VEVENT
DTSTART;TZID=Europe/Prague:20240105T100000
DTEND;TZID=Europe/Prague:20240105T113000
DTSTAMP:20260425T202827
CREATED:20231114T125054Z
LAST-MODIFIED:20231114T125054Z
UID:32129-1704448800-1704454200@www.upcz.cz
SUMMARY:360° TEAMSPIRIT ZOOM SNACK
DESCRIPTION:
URL:https://www.upcz.cz/akce/360-teamspirit-zoom-snack/
LOCATION:MS Teams
CATEGORIES:Semináře, webináře a kurzy
END:VEVENT
BEGIN:VEVENT
DTSTART;TZID=Europe/Prague:20240112T100000
DTEND;TZID=Europe/Prague:20240112T113000
DTSTAMP:20260425T202827
CREATED:20231114T125208Z
LAST-MODIFIED:20231114T125208Z
UID:32131-1705053600-1705059000@www.upcz.cz
SUMMARY:Vytváření Super Effective Organizations ZOOM SNACK
DESCRIPTION:
URL:https://www.upcz.cz/akce/vytvareni-super-effective-organizations-zoom-snack/
LOCATION:MS Teams
CATEGORIES:Semináře, webináře a kurzy
END:VEVENT
BEGIN:VEVENT
DTSTART;TZID=Europe/Prague:20240118T093000
DTEND;TZID=Europe/Prague:20240118T110000
DTSTAMP:20260425T202827
CREATED:20231128T083325Z
LAST-MODIFIED:20231128T083325Z
UID:32590-1705570200-1705575600@www.upcz.cz
SUMMARY:Jak řešit psychosociální rizika u pracovních pozic
DESCRIPTION:Na toto téma a ještě další jak „chránit“ zaměstnance před syndromem únavy vyhoření a dalšími psychickými indispozicemi\, které s sebou přinášejí zhoršenou koncentraci\, vztahové problémy\, prokrastinaci\, zvýšenou neuroticitu někdy doprovázenou úzkostmi až depresemi a dalšími projevy s Vámi bude diskutovat zkušená psycholožka a soudní znalkyně s 30 letou praxí PhDr. et Mgr. Iva Moravcová a Ing. Iva Prokopová\, MBA\, která je specialistkou na ISO normy a je externí auditorkou certifikačního orgánu.
URL:https://www.upcz.cz/akce/jak-resit-psychosocialni-rizika-u-pracovnich-pozic/
LOCATION:MS Teams
CATEGORIES:Semináře, webináře a kurzy
END:VEVENT
BEGIN:VEVENT
DTSTART;TZID=Europe/Prague:20240119T100000
DTEND;TZID=Europe/Prague:20240119T113000
DTSTAMP:20260425T202827
CREATED:20231114T125308Z
LAST-MODIFIED:20231114T125308Z
UID:32133-1705658400-1705663800@www.upcz.cz
SUMMARY:Jak rozpoznat a zpracovat manipulace ZOOM SNACK
DESCRIPTION:
URL:https://www.upcz.cz/akce/jak-rozpoznat-a-zpracovat-manipulace-zoom-snack/
LOCATION:MS Teams
CATEGORIES:Semináře, webináře a kurzy
END:VEVENT
BEGIN:VEVENT
DTSTART;VALUE=DATE:20240123
DTEND;VALUE=DATE:20240124
DTSTAMP:20260425T202827
CREATED:20231114T121343Z
LAST-MODIFIED:20231114T121343Z
UID:32079-1705968000-1706054399@www.upcz.cz
SUMMARY:HR Breakfast
DESCRIPTION:
URL:https://www.upcz.cz/akce/hr-breakfast/
LOCATION:Praha
CATEGORIES:Semináře, webináře a kurzy
END:VEVENT
BEGIN:VEVENT
DTSTART;VALUE=DATE:20240125
DTEND;VALUE=DATE:20240126
DTSTAMP:20260425T202827
CREATED:20231114T121508Z
LAST-MODIFIED:20231114T121508Z
UID:32081-1706140800-1706227199@www.upcz.cz
SUMMARY:HR Breakfast
DESCRIPTION:
URL:https://www.upcz.cz/akce/hr-breakfast-2/
LOCATION:Brno
CATEGORIES:Semináře, webináře a kurzy
END:VEVENT
BEGIN:VEVENT
DTSTART;VALUE=DATE:20240125
DTEND;VALUE=DATE:20240126
DTSTAMP:20260425T202827
CREATED:20231114T121722Z
LAST-MODIFIED:20231121T081315Z
UID:32084-1706140800-1706227199@www.upcz.cz
SUMMARY:Novoroční setkání personalistů
DESCRIPTION:
URL:https://www.upcz.cz/akce/novorocni-setkani-personalistu/
LOCATION:Praha
CATEGORIES:Semináře, webináře a kurzy
END:VEVENT
BEGIN:VEVENT
DTSTART;TZID=Europe/Prague:20240126T100000
DTEND;TZID=Europe/Prague:20240126T113000
DTSTAMP:20260425T202827
CREATED:20231114T125419Z
LAST-MODIFIED:20231114T125419Z
UID:32135-1706263200-1706268600@www.upcz.cz
SUMMARY:Předpoklad je cesta do pekel - Profi (online) komunikace
DESCRIPTION:
URL:https://www.upcz.cz/akce/predpoklad-je-cesta-do-pekel-profi-online-komunikace/
LOCATION:MS Teams
CATEGORIES:Semináře, webináře a kurzy
END:VEVENT
BEGIN:VEVENT
DTSTART;VALUE=DATE:20240130
DTEND;VALUE=DATE:20240131
DTSTAMP:20260425T202827
CREATED:20231114T122242Z
LAST-MODIFIED:20231114T122242Z
UID:32086-1706572800-1706659199@www.upcz.cz
SUMMARY:HR Breakfast
DESCRIPTION:
URL:https://www.upcz.cz/akce/hr-breakfast-3/
LOCATION:Ostrava
CATEGORIES:Semináře, webináře a kurzy
END:VEVENT
END:VCALENDAR