BEGIN:VCALENDAR
VERSION:2.0
PRODID:-//Up Česká republika - ECPv6.15.20//NONSGML v1.0//EN
CALSCALE:GREGORIAN
METHOD:PUBLISH
X-ORIGINAL-URL:https://www.upcz.cz
X-WR-CALDESC:Akce na Up Česká republika
REFRESH-INTERVAL;VALUE=DURATION:PT1H
X-Robots-Tag:noindex
X-PUBLISHED-TTL:PT1H
BEGIN:VTIMEZONE
TZID:Europe/Prague
BEGIN:DAYLIGHT
TZOFFSETFROM:+0100
TZOFFSETTO:+0200
TZNAME:CEST
DTSTART:20230326T010000
END:DAYLIGHT
BEGIN:STANDARD
TZOFFSETFROM:+0200
TZOFFSETTO:+0100
TZNAME:CET
DTSTART:20231029T010000
END:STANDARD
BEGIN:DAYLIGHT
TZOFFSETFROM:+0100
TZOFFSETTO:+0200
TZNAME:CEST
DTSTART:20240331T010000
END:DAYLIGHT
BEGIN:STANDARD
TZOFFSETFROM:+0200
TZOFFSETTO:+0100
TZNAME:CET
DTSTART:20241027T010000
END:STANDARD
BEGIN:DAYLIGHT
TZOFFSETFROM:+0100
TZOFFSETTO:+0200
TZNAME:CEST
DTSTART:20250330T010000
END:DAYLIGHT
BEGIN:STANDARD
TZOFFSETFROM:+0200
TZOFFSETTO:+0100
TZNAME:CET
DTSTART:20251026T010000
END:STANDARD
END:VTIMEZONE
BEGIN:VEVENT
DTSTART;TZID=Europe/Prague:20240412T100000
DTEND;TZID=Europe/Prague:20240412T113000
DTSTAMP:20260425T153655
CREATED:20240222T084051Z
LAST-MODIFIED:20240222T084051Z
UID:34110-1712916000-1712921400@www.upcz.cz
SUMMARY:Assessment / Development Center ZOOM SNACK
DESCRIPTION:Jak ověřit schopnosti a zjistit potenciál lidí\, se kterými chceme pracovat. \nNa tomto online setkání Vás jeden z největších expertů na oblast diagnostiky\, psychodiagnostiky a výběru lidí zasvětí do souvislostí jak postavit a pracovat s AC/DC.
URL:https://www.upcz.cz/akce/assessment-development-center-zoom-snack/
LOCATION:MS Teams
CATEGORIES:Semináře, webináře a kurzy
END:VEVENT
BEGIN:VEVENT
DTSTART;TZID=Europe/Prague:20240416T093000
DTEND;TZID=Europe/Prague:20240416T143000
DTSTAMP:20260425T153655
CREATED:20240226T122052Z
LAST-MODIFIED:20240226T122052Z
UID:34182-1713259800-1713277800@www.upcz.cz
SUMMARY:HR CONGRESS V HRADCI KRÁLOVÉ - 8 vylepšení vnitrofiremní komunikace
DESCRIPTION:
URL:https://www.upcz.cz/akce/hr-congress-v-hradci-kralove-8-vylepseni-vnitrofiremni-komunikace/
CATEGORIES:Semináře, webináře a kurzy
END:VEVENT
BEGIN:VEVENT
DTSTART;TZID=Europe/Prague:20240417T093000
DTEND;TZID=Europe/Prague:20240417T110000
DTSTAMP:20260425T153655
CREATED:20240312T080925Z
LAST-MODIFIED:20240312T080925Z
UID:34436-1713346200-1713351600@www.upcz.cz
SUMMARY:Online webinář: Jak na ESG? Praktické rady ze zkušeností z jiných států
DESCRIPTION:Aby HR hrálo klíčovou roli při zavádění ESG\, musí vědět\, jak na to. Zkušenosti z Polska\, Maďarska a Slovenska nám usnadní cestu. Přijďte si poslechnout\, jak to dělají jinde. Budete mít možnost zjistit zcela unikátní srovnání\, dostanete doporučení\, jak na ESG a budete mít možnost diskutovat s odborníkem\, který má k dispozici data napříč zeměmi V4.
URL:https://www.upcz.cz/akce/online-webinar-jak-na-esg-prakticke-rady-ze-zkusenosti-z-jinych-statu/
LOCATION:MS Teams
CATEGORIES:Semináře, webináře a kurzy
END:VEVENT
BEGIN:VEVENT
DTSTART;VALUE=DATE:20240418
DTEND;VALUE=DATE:20240419
DTSTAMP:20260425T153655
CREATED:20231114T123318Z
LAST-MODIFIED:20231114T123318Z
UID:32105-1713398400-1713484799@www.upcz.cz
SUMMARY:HR Breakfast
DESCRIPTION:
URL:https://www.upcz.cz/akce/hr-breakfast-8/
LOCATION:Olomouc
CATEGORIES:Semináře, webináře a kurzy
END:VEVENT
BEGIN:VEVENT
DTSTART;TZID=Europe/Prague:20240418T083000
DTEND;TZID=Europe/Prague:20240418T123000
DTSTAMP:20260425T153655
CREATED:20240226T130509Z
LAST-MODIFIED:20240226T130509Z
UID:34204-1713429000-1713443400@www.upcz.cz
SUMMARY:HR MEETING - jarní setkání pro HR
DESCRIPTION:Neformální setkání personalistů\, lektorů a hostů NTI – consulting. Krajská knihovna Liberec
URL:https://www.upcz.cz/akce/hr-meeting-jarni-setkani-pro-hr/
CATEGORIES:Semináře, webináře a kurzy
END:VEVENT
BEGIN:VEVENT
DTSTART;TZID=Europe/Prague:20240419T100000
DTEND;TZID=Europe/Prague:20240419T113000
DTSTAMP:20260425T153655
CREATED:20240222T084219Z
LAST-MODIFIED:20240222T084219Z
UID:34112-1713520800-1713526200@www.upcz.cz
SUMMARY:Profesionální vedení výběrového pohovoru ZOOM SNACK
DESCRIPTION:Získat ty nejlepší lidi je jednou z klíčových rolí HR a touhou každého manažera. \nV našem HR Zoom Snack získáte základní nástroje pro vedení profesionálního rozhovoru s kandidátem na pozici. Cílem takového rozhovoru je jednak motivovat potencionálního kolegu k práci právě u nás a současně efektivně zmapovat jeho schopnosti\, předpoklady pro růst i vzájemnou „chemii“ tak\, aby nám to do budoucna vzájemně skvěle fungovalo.
URL:https://www.upcz.cz/akce/profesionalni-vedeni-vyberoveho-pohovoru-zoom-snack/
LOCATION:MS Teams
CATEGORIES:Semináře, webináře a kurzy
END:VEVENT
BEGIN:VEVENT
DTSTART;TZID=Europe/Prague:20240425T090000
DTEND;TZID=Europe/Prague:20240425T113000
DTSTAMP:20260425T153655
CREATED:20240206T081200Z
LAST-MODIFIED:20240206T081200Z
UID:33790-1714035600-1714044600@www.upcz.cz
SUMMARY:Online HR Inspirace: Benefity v kontextu legislativních změn
DESCRIPTION:S účinností od 1. 1. 2024 došlo v rámci konsolidačního balíčku k řadě změn v oblasti zaměstnaneckých benefitů a dalších plnění poskytovaných zaměstnavatelem svým zaměstnancům. K tomuto tématu jsme připravili online HR Inspiraci\, kde tyto změny více vysvětlí právník\, daňař a zástupci několika firem\, kteří s námi budou sdílet své praktické zkušenosti\, jak letos nastavují systém zaměstnaneckých výhod.
URL:https://www.upcz.cz/akce/online-hr-inspirace-benefity-v-kontextu-legislativnich-zmen/
LOCATION:MS Teams
CATEGORIES:Semináře, webináře a kurzy
END:VEVENT
BEGIN:VEVENT
DTSTART;TZID=Europe/Prague:20240426T100000
DTEND;TZID=Europe/Prague:20240426T113000
DTSTAMP:20260425T153655
CREATED:20240321T115924Z
LAST-MODIFIED:20240321T115924Z
UID:34586-1714125600-1714131000@www.upcz.cz
SUMMARY:Efektivní Stress Management s Vítkem Špaňhelem
DESCRIPTION:V dnešním rychlém a neustále se měnícím pracovním prostředí je zvládání stresu nezbytností. Naučte se techniky a strategie pro efektivní řízení stresu\, které Vám pomohou udržet si klid a produktivitu i v náročných situacích.
URL:https://www.upcz.cz/akce/efektivni-stress-management-s-vitkem-spanhelem/
LOCATION:MS Teams
CATEGORIES:Semináře, webináře a kurzy
END:VEVENT
END:VCALENDAR