BEGIN:VCALENDAR
VERSION:2.0
PRODID:-//Up Česká republika - ECPv6.15.20//NONSGML v1.0//EN
CALSCALE:GREGORIAN
METHOD:PUBLISH
X-WR-CALNAME:Up Česká republika
X-ORIGINAL-URL:https://www.upcz.cz
X-WR-CALDESC:Akce na Up Česká republika
REFRESH-INTERVAL;VALUE=DURATION:PT1H
X-Robots-Tag:noindex
X-PUBLISHED-TTL:PT1H
BEGIN:VTIMEZONE
TZID:Europe/Prague
BEGIN:DAYLIGHT
TZOFFSETFROM:+0100
TZOFFSETTO:+0200
TZNAME:CEST
DTSTART:20230326T010000
END:DAYLIGHT
BEGIN:STANDARD
TZOFFSETFROM:+0200
TZOFFSETTO:+0100
TZNAME:CET
DTSTART:20231029T010000
END:STANDARD
BEGIN:DAYLIGHT
TZOFFSETFROM:+0100
TZOFFSETTO:+0200
TZNAME:CEST
DTSTART:20240331T010000
END:DAYLIGHT
BEGIN:STANDARD
TZOFFSETFROM:+0200
TZOFFSETTO:+0100
TZNAME:CET
DTSTART:20241027T010000
END:STANDARD
BEGIN:DAYLIGHT
TZOFFSETFROM:+0100
TZOFFSETTO:+0200
TZNAME:CEST
DTSTART:20250330T010000
END:DAYLIGHT
BEGIN:STANDARD
TZOFFSETFROM:+0200
TZOFFSETTO:+0100
TZNAME:CET
DTSTART:20251026T010000
END:STANDARD
END:VTIMEZONE
BEGIN:VEVENT
DTSTART;TZID=Europe/Prague:20240613T090000
DTEND;TZID=Europe/Prague:20240613T120000
DTSTAMP:20260425T123335
CREATED:20240409T074510Z
LAST-MODIFIED:20240409T074510Z
UID:34759-1718269200-1718280000@www.upcz.cz
SUMMARY:Exchange meeting v STOCK Plzeň - Božkov / v Praze
DESCRIPTION:Přijďte se podívat do centrály společnosti STOCK Plzeň – Božkov v Praze a dozvíte se o inovacích a o tom\, jak inovace chutnají. Budeme se zabývat i tématy diverzity a inkluze v prostředí Stock Spirits Group.
URL:https://www.upcz.cz/akce/exchange-meeting-v-stock-plzen-bozkov-v-praze/
LOCATION:Praha
CATEGORIES:Semináře, webináře a kurzy
END:VEVENT
BEGIN:VEVENT
DTSTART;TZID=Europe/Prague:20240614T100000
DTEND;TZID=Europe/Prague:20240614T113000
DTSTAMP:20260425T123335
CREATED:20240520T123323Z
LAST-MODIFIED:20240520T123323Z
UID:35306-1718359200-1718364600@www.upcz.cz
SUMMARY:Uncouscious Bias aneb jak se naším nevědomím nenechat vědomě svést ZOOM SNACK
DESCRIPTION:Téma Uncouscious Bias zní tajemně\, protože už jen výraz nevědomí probouzí touhu po vědomém poznání toho\, co se v hloubi naší „duše“ občas odehrává. Pochopení toho\, jak jsou naše kognitivní funkce a racionální rozhodování ovlivněny tím\, co občas nemáme pod kontrolou\, je velmi důležité. I proto\, abychom kvalitu našeho rozhodování zlepšovali a v konečném důsledku\, z pohledu HR i Leadershipu dosahovali lepších výsledků. \nHlavní obsahové body: \n\nHlavní typy kognitivního zkreslení – Haló efekt\, chyby kontextového uvažování a jejich dopad na naše jednání\nSmyslové chyby a iluze\nŠaty dělaj člověka – fakt to v sobě máme\nStereotypy proti Stereotypům aneb vypracujte si nové rozhodovací postupy\nCesta z pekla aneb Zlaté pravidlo ověřování\n?\n\n  \nTématem Vás provede: \nVít Špaňhel\, M. A.
URL:https://www.upcz.cz/akce/uncouscious-bias-aneb-jak-se-nasim-nevedomim-nenechat-vedome-svest-zoom-snack/
LOCATION:MS Teams
CATEGORIES:Semináře, webináře a kurzy
END:VEVENT
BEGIN:VEVENT
DTSTART;TZID=Europe/Prague:20240621T100000
DTEND;TZID=Europe/Prague:20240621T113000
DTSTAMP:20260425T123335
CREATED:20240520T123422Z
LAST-MODIFIED:20240520T123422Z
UID:35308-1718964000-1718969400@www.upcz.cz
SUMMARY:Future Skills ZOOM SNACK
DESCRIPTION:Vstupte do světa neustále se vyvíjejících profesí a technologií s naším 90minutovým workshopem\, který vás vybaví dovednostmi nezbytnými pro úspěch v budoucnosti. Zjistěte\, jaké “Future Skills” jsou klíčové pro nadcházející dekádu a naučte se\, jak je efektivně rozvíjet a uplatňovat ve svém osobním i profesním životě. Nejenže se dozvíte\, co tyto dovednosti jsou\, ale také jak je můžete rozvíjet skrze inovativní přístupy a techniky. Připojte se k nám a staňte se průkopníkem ve svém oboru! \n5 Klíčových Bodů Programu: \n\n\nIdentifikace Future Skills\nKritické myšlení a kreativita\nDigitální gramotnost a umělá inteligence\nEmocionální inteligence a spolupráce\nAdaptabilita a učení se\nStorytelling jako nástroj vlivu\n\nProgramem Vás provede: \nMUDr. Martin Kalenda\, MBA \nSenior konzultant a kouč
URL:https://www.upcz.cz/akce/future-skills-zoom-snack/
LOCATION:MS Teams
CATEGORIES:Semináře, webináře a kurzy
END:VEVENT
END:VCALENDAR