BEGIN:VCALENDAR
VERSION:2.0
PRODID:-//Up Česká republika - ECPv6.15.20//NONSGML v1.0//EN
CALSCALE:GREGORIAN
METHOD:PUBLISH
X-ORIGINAL-URL:https://www.upcz.cz
X-WR-CALDESC:Akce na Up Česká republika
REFRESH-INTERVAL;VALUE=DURATION:PT1H
X-Robots-Tag:noindex
X-PUBLISHED-TTL:PT1H
BEGIN:VTIMEZONE
TZID:Europe/Prague
BEGIN:DAYLIGHT
TZOFFSETFROM:+0100
TZOFFSETTO:+0200
TZNAME:CEST
DTSTART:20230326T010000
END:DAYLIGHT
BEGIN:STANDARD
TZOFFSETFROM:+0200
TZOFFSETTO:+0100
TZNAME:CET
DTSTART:20231029T010000
END:STANDARD
BEGIN:DAYLIGHT
TZOFFSETFROM:+0100
TZOFFSETTO:+0200
TZNAME:CEST
DTSTART:20240331T010000
END:DAYLIGHT
BEGIN:STANDARD
TZOFFSETFROM:+0200
TZOFFSETTO:+0100
TZNAME:CET
DTSTART:20241027T010000
END:STANDARD
BEGIN:DAYLIGHT
TZOFFSETFROM:+0100
TZOFFSETTO:+0200
TZNAME:CEST
DTSTART:20250330T010000
END:DAYLIGHT
BEGIN:STANDARD
TZOFFSETFROM:+0200
TZOFFSETTO:+0100
TZNAME:CET
DTSTART:20251026T010000
END:STANDARD
END:VTIMEZONE
BEGIN:VEVENT
DTSTART;TZID=Europe/Prague:20240802T083000
DTEND;TZID=Europe/Prague:20240802T103000
DTSTAMP:20260423T093244
CREATED:20240701T132329Z
LAST-MODIFIED:20240717T110930Z
UID:36199-1722587400-1722594600@www.upcz.cz
SUMMARY:Business Breakfests - Compliance jako konkurenční výhoda
DESCRIPTION:Compliance jako konkurenční výhoda:  Zajištění souladu s regulačními požadavky a udržení etických standardů \n  \n– přednáší Mgr.Nikol Jeništová\, AK CERHA HEMPEL \n  \nÚčastí na této pracovní snídani získáte nejen lepší porozumění principů compliance a jejího významu v podnikání\, ale především se naučíte\, jak efektivní compliance může posílit konkurenční postavení Vaší firmy. \nZískáte rovněž praktické rady a postupy\, jak snížit rizika\, zlepšit pověst firmy včetně atraktivního networkingu. \nV neposlední řadě  získáte rovněž inspiraci pro zavádění inovativních přístupů a strategie v oblasti compliance včetně posílení důvěry mezi investory\, zákazníky a obchodními partnery díky transparentnímu a odpovědnému přístupu. \nCena za účast na 1 Business Breakfast je 1.890 Kč plus DPH/ osoba\, pro účastníky HR Summit platí 20% sleva. \nPředpokládaný počet účastníků 25 – 40 osob/ 1 akce \nRegistrace na: info@beeconsulting.cz \n 
URL:https://www.upcz.cz/akce/business-breakfests-compliance-jako-konkurencni-vyhoda/
LOCATION:Art Nouveau Palace Hotel Prague\, Panská 897/12\, Praha 1\, Česká republika
CATEGORIES:Semináře, webináře a kurzy
END:VEVENT
BEGIN:VEVENT
DTSTART;TZID=Europe/Prague:20240816T100000
DTEND;TZID=Europe/Prague:20240816T113000
DTSTAMP:20260423T093245
CREATED:20240627T071505Z
LAST-MODIFIED:20240627T071505Z
UID:36142-1723802400-1723807800@www.upcz.cz
SUMMARY:Vděčnost s Vítkem Špaňhelem ZOOM SNACK
DESCRIPTION:V dnešním dynamickém pracovním prostředí je snadné ztratit zřetel na důležitost mezilidských vztahů a osobního rozvoje. Tento workshop se zaměřuje na praktiky vděčnosti a jejich vliv na firemní kulturu a individuální růst. Porozumíme\, jak vděčnost může pozitivně ovlivnit atmosféru na pracovišti\, zlepšit týmovou spolupráci a posílit osobní i profesní rozvoj. \nProgram workshopu zahrnuje: \n\nÚvod do konceptu vděčnosti a její osobní i profesionální benefity.\nPraktické techniky a cvičení zaměřená na rozvoj vděčnosti ve firemním prostředí.\nDiskuze o konkrétních příkladech a sdílení zkušeností účastníků.\nInteraktivní aktivity\, které podpoří integraci vděčnosti do každodenní pracovní rutiny.\nZávěrečné zamyšlení nad tím\, jak vděčnost může přispět k dlouhodobému zlepšení pracovních vztahů a osobní spokojenosti.\n\nWorkshop je určen pro Vás všechny\, kteří chtějí zlepšit svou pracovní atmosféru\, zvýšit osobní motivaci a podpořit pozitivní změny ve firmě. Připojte se k nám a objevte\, jak síla vděčnosti může proměnit vaše pracovní prostředí a přinést nové impulsy pro váš profesní růst \nTématem Vás provede: \nVít Špaňhel\, M. A.
URL:https://www.upcz.cz/akce/vdecnost-s-vitkem-spanhelem-zoom-snack/
LOCATION:MS Teams
CATEGORIES:Semináře, webináře a kurzy
END:VEVENT
BEGIN:VEVENT
DTSTART;TZID=Europe/Prague:20240822T100000
DTEND;TZID=Europe/Prague:20240822T113000
DTSTAMP:20260423T093245
CREATED:20240627T071640Z
LAST-MODIFIED:20240627T071640Z
UID:36144-1724320800-1724326200@www.upcz.cz
SUMMARY:Firemní průzkumy angažovanosti a spokojenosti zaměstnanců ZOOM SNACK
DESCRIPTION:Firemní průzkumy angažovanosti a spokojenosti zaměstnanců s Vratislavem Kalendou – novinka! \nNaše zkušenosti z různých forem průzkumů a diagnostiky Vám pomohou to vše udělat kvalitně. \n\nProč dělat průzkum\nJak zacílit a připravit průzkum\nJak udělat průzkum\, aby měřil skutečnou angažovanost a nešel po povrchu\nJak komunikovat průzkum a zajistit vysokou návratnost dotazníků\nJak vyhodnotit s výstupy\nJak komunikovat a pracovat s výstupy\n\nProgramem Vás provede: \nMgr. MUDr. Vratislav Kalenda\, MSc. In SHRM \nsenior konzultant\, expert na psychodiagnostiku a průzkumy
URL:https://www.upcz.cz/akce/firemni-pruzkumy-angazovanosti-a-spokojenosti-zamestnancu-zoom-snack/
LOCATION:MS Teams
CATEGORIES:Semináře, webináře a kurzy
END:VEVENT
BEGIN:VEVENT
DTSTART;TZID=Europe/Prague:20240822T170000
DTEND;TZID=Europe/Prague:20240822T230000
DTSTAMP:20260423T093245
CREATED:20240521T132812Z
LAST-MODIFIED:20240521T132812Z
UID:35345-1724346000-1724367600@www.upcz.cz
SUMMARY:HR Inspirace - HR o parník napřed
DESCRIPTION:I tento rok budeme na vlnách Vltavy v Praze\, kam vás srdečně zveme. Máme pro vás objednané hezké letní počasí (tak snad to vyjde) a připravené výborné občerstvení. O inspirativní program se tentokrát postará společnost Selfish Kiwi\, která prostřednictvím teorie her prozkoumá temná zákoutí vaší altruistické duše a imaginární peněženky. Přijďte plout s námi! \n18:15 – 19:00  Workshop  \nProstřednictvím konceptu teorie her si ověříte\, zda jste dobří nebo naopak špatní vyjednavači či obchodníci a zda dokážete dobře odhadnout následky svého rozhodnutí. Kdy je na místě kompromis\, zatímco jindy je nutné se bránit? Proč je strategie „zub za dva zuby“ efektivnější než „oko za oko“ a co s tím vším má společného „Velký pes“? Pojďte s námi hledat křehkou hranici mezi laskavostí a naivitou\, ambicemi a sobectvím. \nWorkshop povedou Filip Lepier a Jakub Šmakal\, konzultanti a partneři společnosti Selfish Kiwi. \n19:00 – dále Raut a networking
URL:https://www.upcz.cz/akce/hr-inspirace-hr-o-parnik-napred/
LOCATION:Praha
CATEGORIES:Semináře, webináře a kurzy
END:VEVENT
BEGIN:VEVENT
DTSTART;TZID=Europe/Prague:20240829T090000
DTEND;TZID=Europe/Prague:20240829T120000
DTSTAMP:20260423T093245
CREATED:20240627T071806Z
LAST-MODIFIED:20240627T071806Z
UID:36146-1724922000-1724932800@www.upcz.cz
SUMMARY:HR DEVELOPMENT WORKSHOP 2024
DESCRIPTION:Novinky ze světa HR\, rozvoje\, diagnostiky a práce s talenty! \n3 hodiny\, 3 témata\, interakce \n  \nProgramem Vás provedou: \nMUDr. Martin Kalenda\, MBA \nMgr. MUDr. Vratislav Kalenda\, MSc. in SHRM \nVítek Špaňhel\, M.A. \na další hosté
URL:https://www.upcz.cz/akce/hr-development-workshop-2024/
LOCATION:MS Teams
CATEGORIES:Semináře, webináře a kurzy
END:VEVENT
END:VCALENDAR