BEGIN:VCALENDAR
VERSION:2.0
PRODID:-//Up Česká republika - ECPv6.15.20//NONSGML v1.0//EN
CALSCALE:GREGORIAN
METHOD:PUBLISH
X-WR-CALNAME:Up Česká republika
X-ORIGINAL-URL:https://www.upcz.cz
X-WR-CALDESC:Akce na Up Česká republika
REFRESH-INTERVAL;VALUE=DURATION:PT1H
X-Robots-Tag:noindex
X-PUBLISHED-TTL:PT1H
BEGIN:VTIMEZONE
TZID:Europe/Prague
BEGIN:DAYLIGHT
TZOFFSETFROM:+0100
TZOFFSETTO:+0200
TZNAME:CEST
DTSTART:20230326T010000
END:DAYLIGHT
BEGIN:STANDARD
TZOFFSETFROM:+0200
TZOFFSETTO:+0100
TZNAME:CET
DTSTART:20231029T010000
END:STANDARD
BEGIN:DAYLIGHT
TZOFFSETFROM:+0100
TZOFFSETTO:+0200
TZNAME:CEST
DTSTART:20240331T010000
END:DAYLIGHT
BEGIN:STANDARD
TZOFFSETFROM:+0200
TZOFFSETTO:+0100
TZNAME:CET
DTSTART:20241027T010000
END:STANDARD
BEGIN:DAYLIGHT
TZOFFSETFROM:+0100
TZOFFSETTO:+0200
TZNAME:CEST
DTSTART:20250330T010000
END:DAYLIGHT
BEGIN:STANDARD
TZOFFSETFROM:+0200
TZOFFSETTO:+0100
TZNAME:CET
DTSTART:20251026T010000
END:STANDARD
END:VTIMEZONE
BEGIN:VEVENT
DTSTART;TZID=Europe/Prague:20241004T100000
DTEND;TZID=Europe/Prague:20241004T113000
DTSTAMP:20260423T064800
CREATED:20240919T085145Z
LAST-MODIFIED:20240919T085145Z
UID:37116-1728036000-1728041400@www.upcz.cz
SUMMARY:Asertivita s Vítkem Špaňhelem
DESCRIPTION:Asertivita je klíčová dovednost\, která podporuje efektivní komunikaci\, zdravé mezilidské vztahy a osobní i profesní rozvoj. V tomto workshopu nahlédneme jak do hlavních souvislostí toho\, co asertivita je\, tak se podíváme na to\, jak se zdravou asertivitou pracovat a rozvíjet ji i ve vnitrofiremním prostředí. \nObsah: \n\n\nÚvod do konceptu asertivity a její význam ve firemním prostředí\nRozdíl mezi asertivitou\, pasivitou a agresivitou\nPraktické techniky a cvičení pro rozvoj asertivního chování\nDiskuze a sdílení zkušeností z praxe účastníků\nZávěrečné zamyšlení nad implementací asertivních technik do každodenní práce\n\nWorkshop je určen pro zaměstnance na všech úrovních\, kteří chtějí zlepšit svou komunikační zdatnost\, budovat zdravější pracovní vztahy a efektivněji dosahovat svých cílů. Připojte se a naučte se\, jak být asertivní\, aniž byste narušili harmonii pracovního prostředí.
URL:https://www.upcz.cz/akce/asertivita-s-vitkem-spanhelem/
LOCATION:MS Teams
CATEGORIES:Semináře, webináře a kurzy
END:VEVENT
BEGIN:VEVENT
DTSTART;TZID=Europe/Prague:20241011T100000
DTEND;TZID=Europe/Prague:20241011T113000
DTSTAMP:20260423T064800
CREATED:20240919T085240Z
LAST-MODIFIED:20240919T085240Z
UID:37118-1728640800-1728646200@www.upcz.cz
SUMMARY:360° zpětná vazba s Vratislavem Kalendou
DESCRIPTION:Co všechno potřebujete vědět\, aby 360° zpětná vazba měla smysl a přinesla užitek?\nŘeditel Image Lab s.r.o.\, Mgr. MUDr. Vratislav Kalenda\, MSc. in SHRM se s Vámi podělí o své bohaté zkušenosti se zaváděním a administrací firemních průzkumů 360° na našem portálu „TeamSpirit360FB“. \n\nProč dělat průzkumy 360° zpětná vazba – cíle a přínosy\nNa co si dát pozor\, jak ošetřit rizika…\nEtická pravidla zacházení s výstupy\nPravidla pro vytváření dotazníků pro 360° zpětnou vazbu\, naše kompetenční knihovny\nKomunikační strategie\, kick-off\, načasování\nUživatelsky přívětivý přístup a časově efektivní vyplňování on-line dotazníků\nPráce s výstupními zprávami\, rozvojové plány
URL:https://www.upcz.cz/akce/360-zpetna-vazba-s-vratislavem-kalendou/
LOCATION:MS Teams
CATEGORIES:Semináře, webináře a kurzy
END:VEVENT
BEGIN:VEVENT
DTSTART;TZID=Europe/Prague:20241015T090000
DTEND;TZID=Europe/Prague:20241015T110000
DTSTAMP:20260423T064800
CREATED:20240903T095843Z
LAST-MODIFIED:20240903T095843Z
UID:36739-1728982800-1728990000@www.upcz.cz
SUMMARY:HR snídaně - Od náboru po důchod: Jak efektivně řídit zaměstnance různého věku
DESCRIPTION:Zveme vás na společnou snídani\, kde se zaměříme na Age management – koncept\, který zohledňuje věkovou diverzitu na pracovišti a podporuje dlouhodobou udržitelnost zaměstnanců. Probereme klíčové aspekty jeho implementace\, základní pilíře a metody\, jakými můžeme efektivně měřit pracovní schopnost zaměstnanců. \nZjistíte\, jak může age management pomoci vaší firmě nejen z pohledu udržení zkušených pracovníků\, ale i vytvoření pozitivního pracovního prostředí pro všechny generace. \nNavíc se seznámíme s programem Profesní seniorita\, který se zaměřuje na plánování kariéry a celoživotní vzdělávání. Dozvíte se\, jak tento program může podpořit rozvoj vašich zaměstnanců a přispět k posílení vaší značky jako dobrého zaměstnavatele. \n‍ \nProgram\n8:30 – 9:00 Příchod\, registrace a snídaně \n9:00 – 9:15 Představení partnera akce\, společnosti Atris \n9:15 – 10:00 První část programu Age management (Musilová Kateřina) \n10:00 – 10:20 Přestávka na kávu a snídaně \n10:20 – 11:00 Druhá část programu Profesní seniorita (Musilová Kateřina) + diskuze
URL:https://www.upcz.cz/akce/hr-snidane-od-naboru-po-duchod-jak-efektivne-ridit-zamestnance-ruzneho-veku/
LOCATION:Praha
CATEGORIES:Semináře, webináře a kurzy
END:VEVENT
END:VCALENDAR