BEGIN:VCALENDAR
VERSION:2.0
PRODID:-//Up Česká republika - ECPv6.15.20//NONSGML v1.0//EN
CALSCALE:GREGORIAN
METHOD:PUBLISH
X-WR-CALNAME:Up Česká republika
X-ORIGINAL-URL:https://www.upcz.cz
X-WR-CALDESC:Akce na Up Česká republika
REFRESH-INTERVAL;VALUE=DURATION:PT1H
X-Robots-Tag:noindex
X-PUBLISHED-TTL:PT1H
BEGIN:VTIMEZONE
TZID:Europe/Prague
BEGIN:DAYLIGHT
TZOFFSETFROM:+0100
TZOFFSETTO:+0200
TZNAME:CEST
DTSTART:20240331T010000
END:DAYLIGHT
BEGIN:STANDARD
TZOFFSETFROM:+0200
TZOFFSETTO:+0100
TZNAME:CET
DTSTART:20241027T010000
END:STANDARD
BEGIN:DAYLIGHT
TZOFFSETFROM:+0100
TZOFFSETTO:+0200
TZNAME:CEST
DTSTART:20250330T010000
END:DAYLIGHT
BEGIN:STANDARD
TZOFFSETFROM:+0200
TZOFFSETTO:+0100
TZNAME:CET
DTSTART:20251026T010000
END:STANDARD
BEGIN:DAYLIGHT
TZOFFSETFROM:+0100
TZOFFSETTO:+0200
TZNAME:CEST
DTSTART:20260329T010000
END:DAYLIGHT
BEGIN:STANDARD
TZOFFSETFROM:+0200
TZOFFSETTO:+0100
TZNAME:CET
DTSTART:20261025T010000
END:STANDARD
END:VTIMEZONE
BEGIN:VEVENT
DTSTART;TZID=Europe/Prague:20250206T090000
DTEND;TZID=Europe/Prague:20250206T133000
DTSTAMP:20260423T010214
CREATED:20241128T102007Z
LAST-MODIFIED:20241128T102007Z
UID:44300-1738832400-1738848600@www.upcz.cz
SUMMARY:Pracovně lékařské prohlídky
DESCRIPTION:Účelem pracovnělékařských prohlídek je zjistit informace o zdravotním stavu daného zaměstnance a díky tomu tak posoudit jeho zdravotní způsobilost k práci. Význam hrají nejen při ochraně zdraví zaměstnance\, ale také jeho spolupracovníků.\nProgram\nČást teoretická \n\nAktuální právní předpisy a provedené změny od 1. 1. 2025\nLékařský posudek a posudkový závěr\nŽádost zaměstnavatele o pracovně lékařskou prohlídku\nPeriodicita pracovně lékařských prohlídek\n\nČást praktická \n\nWorkshop – účastníci si předem připraví svoje dotazy a dokumenty k tématu\, se kterými budeme pracovat
URL:https://www.upcz.cz/akce/pracovne-lekarske-prohlidky/
LOCATION:Strakonice
CATEGORIES:Semináře, webináře a kurzy
END:VEVENT
BEGIN:VEVENT
DTSTART;TZID=Europe/Prague:20250207T100000
DTEND;TZID=Europe/Prague:20250207T113000
DTSTAMP:20260423T010214
CREATED:20250116T134131Z
LAST-MODIFIED:20250116T134131Z
UID:45437-1738922400-1738927800@www.upcz.cz
SUMMARY:Jak na motivaci ve firmách a generační Engagement s Martinem Kalendou
DESCRIPTION:Motto: Různé generace mají různé preference\, ale sdílejí potřebu smyslu\, uznání a podpory.\n\n\nJak na motivaci ve firmách a generační Engagement? \nCo je to vlastně motivace? \n\n\nJe rozdíl mezi vnitřní a vnější motivací a existují tyto motivace vůbec?\nCo to tedy motivace je?\n\nMotivace v kontextu firem\n\nJak motivace ovlivňuje atmosféru na pracovišti\, produktivitu a stabilitu týmu\nJak je to s třemi vrstvami engagementu\n\n Tři nové role managementu\n\nNa čem společně pracovat\nGenerační synergie\n\n Jak „vyrábíme“ motivaci a engagement u klientů Image Lab?\n\nNahlédněte do naší „kuchyně“ a ptejte se na to\, co Vás zajímá
URL:https://www.upcz.cz/akce/jak-na-motivaci-ve-firmach-a-generacni-engagement-s-martinem-kalendou/
LOCATION:MS Teams
CATEGORIES:Semináře, webináře a kurzy
END:VEVENT
BEGIN:VEVENT
DTSTART;TZID=Europe/Prague:20250213T100000
DTEND;TZID=Europe/Prague:20250213T120000
DTSTAMP:20260423T010214
CREATED:20241128T101449Z
LAST-MODIFIED:20241128T101449Z
UID:44290-1739440800-1739448000@www.upcz.cz
SUMMARY:online HR Inspirace | Engagement a motivovanost v digitální éře
DESCRIPTION:Rozvoj digitálních technologií a v době covidu masivní nástup home office má dopad na řízení engagementu a motivovanosti zaměstnanců. Nové podmínky kladou nové požadavky i na vedení a řízení lidí. Se starými metodami řízení lidí „na place“ už šéfové nevystačí. Generačně se očekávání zaměstnanců na to\, jaké faktory ovlivňují jejich engagement a motivovanost\, také proměnily.
URL:https://www.upcz.cz/akce/online-hr-inspirace-engagement-a-motivovanost-v-digitalni-ere/
LOCATION:MS Teams
CATEGORIES:Semináře, webináře a kurzy
END:VEVENT
BEGIN:VEVENT
DTSTART;TZID=Europe/Prague:20250218T090000
DTEND;TZID=Europe/Prague:20250218T120000
DTSTAMP:20260423T010214
CREATED:20241128T101541Z
LAST-MODIFIED:20241128T101541Z
UID:44292-1739869200-1739880000@www.upcz.cz
SUMMARY:HR BREAKFAST v Olomouci - sdílení dobré HR praxe
DESCRIPTION:HR SETKÁNÍ NAŽIVO
URL:https://www.upcz.cz/akce/hr-breakfast-v-olomouci-sdileni-dobre-hr-praxe/
LOCATION:Olomouc
CATEGORIES:Semináře, webináře a kurzy
END:VEVENT
BEGIN:VEVENT
DTSTART;TZID=Europe/Prague:20250219T090000
DTEND;TZID=Europe/Prague:20250219T120000
DTSTAMP:20260423T010214
CREATED:20241128T101651Z
LAST-MODIFIED:20241128T101651Z
UID:44294-1739955600-1739966400@www.upcz.cz
SUMMARY:HR BREAKFAST v Praze - jak na rovné a transparentní odměňování
DESCRIPTION:HR BREAKFAST
URL:https://www.upcz.cz/akce/hr-breakfast-v-praze-jak-na-rovne-a-transparentni-odmenovani/
LOCATION:Praha
CATEGORIES:Semináře, webináře a kurzy
END:VEVENT
BEGIN:VEVENT
DTSTART;TZID=Europe/Prague:20250219T133000
DTEND;TZID=Europe/Prague:20250219T163000
DTSTAMP:20260423T010214
CREATED:20241128T101750Z
LAST-MODIFIED:20241128T101750Z
UID:44296-1739971800-1739982600@www.upcz.cz
SUMMARY:HR BREAKFAST v Praze - jak na rovné a transparentní odměňování
DESCRIPTION:HR BREAKFAST
URL:https://www.upcz.cz/akce/hr-breakfast-v-praze-jak-na-rovne-a-transparentni-odmenovani-2/
LOCATION:Praha
CATEGORIES:Semináře, webináře a kurzy
END:VEVENT
BEGIN:VEVENT
DTSTART;TZID=Europe/Prague:20250220T090000
DTEND;TZID=Europe/Prague:20250220T120000
DTSTAMP:20260423T010214
CREATED:20241128T101843Z
LAST-MODIFIED:20241128T101843Z
UID:44298-1740042000-1740052800@www.upcz.cz
SUMMARY:HR BREAKFAST v Brně - sdílení dobré HR praxe
DESCRIPTION:HR SETKÁNÍ NAŽIVO
URL:https://www.upcz.cz/akce/hr-breakfast-v-brne-sdileni-dobre-hr-praxe/
LOCATION:Brno
CATEGORIES:Semináře, webináře a kurzy
END:VEVENT
BEGIN:VEVENT
DTSTART;TZID=Europe/Prague:20250226T083000
DTEND;TZID=Europe/Prague:20250226T103000
DTSTAMP:20260423T010214
CREATED:20250115T092759Z
LAST-MODIFIED:20250115T092759Z
UID:45410-1740558600-1740565800@www.upcz.cz
SUMMARY:Business Breakfast: Změny v pracovním právu 2025"
DESCRIPTION:
URL:https://www.upcz.cz/akce/business-breakfast-zmeny-v-pracovnim-pravu-2025/
LOCATION:Art Nouveau Palace Hotel Prague\, Panská 897/12\, Praha 1\, Česká republika
CATEGORIES:Semináře, webináře a kurzy
END:VEVENT
END:VCALENDAR