BEGIN:VCALENDAR
VERSION:2.0
PRODID:-//Up Česká republika - ECPv6.15.20//NONSGML v1.0//EN
CALSCALE:GREGORIAN
METHOD:PUBLISH
X-WR-CALNAME:Up Česká republika
X-ORIGINAL-URL:https://www.upcz.cz
X-WR-CALDESC:Akce na Up Česká republika
REFRESH-INTERVAL;VALUE=DURATION:PT1H
X-Robots-Tag:noindex
X-PUBLISHED-TTL:PT1H
BEGIN:VTIMEZONE
TZID:Europe/Prague
BEGIN:DAYLIGHT
TZOFFSETFROM:+0100
TZOFFSETTO:+0200
TZNAME:CEST
DTSTART:20240331T010000
END:DAYLIGHT
BEGIN:STANDARD
TZOFFSETFROM:+0200
TZOFFSETTO:+0100
TZNAME:CET
DTSTART:20241027T010000
END:STANDARD
BEGIN:DAYLIGHT
TZOFFSETFROM:+0100
TZOFFSETTO:+0200
TZNAME:CEST
DTSTART:20250330T010000
END:DAYLIGHT
BEGIN:STANDARD
TZOFFSETFROM:+0200
TZOFFSETTO:+0100
TZNAME:CET
DTSTART:20251026T010000
END:STANDARD
BEGIN:DAYLIGHT
TZOFFSETFROM:+0100
TZOFFSETTO:+0200
TZNAME:CEST
DTSTART:20260329T010000
END:DAYLIGHT
BEGIN:STANDARD
TZOFFSETFROM:+0200
TZOFFSETTO:+0100
TZNAME:CET
DTSTART:20261025T010000
END:STANDARD
END:VTIMEZONE
BEGIN:VEVENT
DTSTART;TZID=Europe/Prague:20250403T100000
DTEND;TZID=Europe/Prague:20250403T113000
DTSTAMP:20260422T220412
CREATED:20250325T165556Z
LAST-MODIFIED:20250325T165556Z
UID:46539-1743674400-1743679800@www.upcz.cz
SUMMARY:Realita a budoucnost hodnocení zaměstnanců s Vratislavem Kalendou
DESCRIPTION:Jak dnes pracovat s hodnocením? Zajímají Vás moderní přístupy hodnocení? A jak do toho zapojit moderní technologie? \nJaká je historie\, realita a budoucnost hodnocení zaměstnanců? Mgr. MUDr. Vratislav Kalenda\, MSc. in SHRM – jednatel\, ředitel\, senior konzultant\, expert v oblasti diagnostiky a hodnocení lidí se s Vámi podělí o 30 let své osobní zkušenosti.
URL:https://www.upcz.cz/akce/realita-a-budoucnost-hodnoceni-zamestnancu-s-vratislavem-kalendou/
LOCATION:Online
CATEGORIES:Semináře, webináře a kurzy
END:VEVENT
BEGIN:VEVENT
DTSTART;TZID=Europe/Prague:20250404T100000
DTEND;TZID=Europe/Prague:20250404T113000
DTSTAMP:20260422T220412
CREATED:20250325T165838Z
LAST-MODIFIED:20250325T165838Z
UID:46542-1743760800-1743766200@www.upcz.cz
SUMMARY:Prezentace v online prostředí s Vítkem Špaňhelem
DESCRIPTION:Udržení pozornosti publika je jedním z největších úskalí online prezentace. To výrazně snižuje efektivitu Vaší práce. Naučíme Vás pracovat s jednoduchými tipy a triky pro prezentování v online prostředí.
URL:https://www.upcz.cz/akce/prezentace-v-online-prostredi-s-vitkem-spanhelem/
LOCATION:Online
CATEGORIES:Semináře, webináře a kurzy
END:VEVENT
BEGIN:VEVENT
DTSTART;TZID=Europe/Prague:20250410T093000
DTEND;TZID=Europe/Prague:20250410T110000
DTSTAMP:20260422T220412
CREATED:20250204T100622Z
LAST-MODIFIED:20250204T100622Z
UID:45714-1744277400-1744282800@www.upcz.cz
SUMMARY:Skvělá firma nevzniká náhodou | Jak rozvíjet firmu\, aby z ní lidé nechtěli odcházet? | Online
DESCRIPTION:Chcete snížit fluktuaci\, přilákat talenty a vytvořit firmu\, v níž se lidé cítí dobře a chtějí pracovat? Mnoho organizací se pokouší motivovat jednotlivce\, nabízí atraktivní benefity a školení pro lídry\, ale přesto se jim nedaří dlouhodobě udržet spokojené a angažované zaměstnance. Proč? Protože firemní prostředí má silnější vliv než individuální motivace jednotlivců. Během tohoto webináře se dozvíte\, proč nestačí zaměřit se pouze na osobní rozvoj\, ale je zásadní pracovat s nepsanými pravidly\, zvyky a kulturou\, které ovlivňují každodenní realitu týmů. Odhalíme\, co skutečně rozhoduje o tom\, zda lidé zůstávají\, nebo odcházejí\, a jak vytvořit prostředí\, kde spolupráce\, důvěra a výkonnost nejsou jen prázdná slova. \n  \nhcete snížit fluktuaci\, přilákat talenty a vytvořit firmu\, v níž se lidé cítí dobře a chtějí pracovat? Mnoho organizací se pokouší motivovat jednotlivce\, nabízí atraktivní benefity a školení pro lídry\, ale přesto se jim nedaří dlouhodobě udržet spokojené a angažované zaměstnance. Proč? Protože firemní prostředí má silnější vliv než individuální motivace jednotlivců. \nBěhem tohoto webináře se dozvíte\, proč nestačí zaměřit se pouze na osobní rozvoj\, ale je zásadní pracovat s nepsanými pravidly\, zvyky a kulturou\, které ovlivňují každodenní realitu týmů. Odhalíme\, co skutečně rozhoduje o tom\, zda lidé zůstávají\, nebo odcházejí\, a jak vytvořit prostředí\, kde spolupráce\, důvěra a výkonnost nejsou jen prázdná slova. \nMůžete se těšit na interaktivní formát\, který vás vtáhne do akce. Součástí webináře je i krátká příprava formou videa\, které dostanete předem. \n‍ \nProgram\n✅ Proč klasické rozvojové programy selhávají\, pokud neřeší prostředí a týmovou dynamiku.\n✅ Jak ve firmách vznikají neviditelná pravidla\, která brání skutečné změně.\n✅ Jak rozpoznat toxické vzorce chování a proměnit je ve zdravější spolupráci.\n✅ Jak vytvořit pracovní prostředí\, kde lidé nacházejí smysl\, angažovanost a chuť zůstat dlouhodobě.\n✅ Praktické kroky\, jak začít rozvíjet kulturu spolupráce. \n🚀 Přidejte se a zjistěte\, jak proměnit vaši firmu v místo\, kde lidé chtějí pracovat dlouhodobě!\n‍
URL:https://www.upcz.cz/akce/skvela-firma-nevznika-nahodou-jak-rozvijet-firmu-aby-z-ni-lide-nechteli-odchazet-online/
LOCATION:MS Teams
CATEGORIES:Semináře, webináře a kurzy
END:VEVENT
BEGIN:VEVENT
DTSTART;TZID=Europe/Prague:20250417T090000
DTEND;TZID=Europe/Prague:20250417T123000
DTSTAMP:20260422T220412
CREATED:20250408T080832Z
LAST-MODIFIED:20250408T080832Z
UID:46752-1744880400-1744893000@www.upcz.cz
SUMMARY:Změny ve skončení pracovního poměru od 1. 6. 2025: Výpovědní doby\, důvody\, výpočet odstupného
DESCRIPTION:Novela zákoníku práce chystá od 1. 6. 2025 hned několik zásadních změn v propouštění! Víte\, jak se změní výpovědní i zkušební lhůty? A v kterých případech můžete nově výpovědní dobu zkrátit dokonce na 1 měsíc? Jaká jsou nová pravidla pro ukončení pracovního poměru z důvodu ztráty zdravotní způsobilosti? Jaké výpovědní důvody nově můžete využít? Pozor\, za neplatné rozvázání PP nese dle Nejvyššího soudu osobní odpovědnost personalista! Vyvarujte se zbytečných nepříjemností\, či dokonce sankcí a najděte ekonomicky přijatelné způsoby řešení v souladu s novými právními předpisy.
URL:https://www.upcz.cz/akce/zmeny-ve-skonceni-pracovniho-pomeru-od-1-6-2025-vypovedni-doby-duvody-vypocet-odstupneho/
LOCATION:MS Teams
CATEGORIES:Semináře, webináře a kurzy
ORGANIZER;CN="Nakladatelstv%C3%AD FORUM s.r.o.":MAILTO:office@forum-media.cz
END:VEVENT
BEGIN:VEVENT
DTSTART;TZID=Europe/Prague:20250417T100000
DTEND;TZID=Europe/Prague:20250417T113000
DTSTAMP:20260422T220412
CREATED:20250325T170023Z
LAST-MODIFIED:20250325T170023Z
UID:46544-1744884000-1744889400@www.upcz.cz
SUMMARY:Práce s chybou v organizaci s Martinem Kalendou
DESCRIPTION:V organizacích vzniká většina chyb v důsledku lidského faktoru – ať už jde o nedostatek informací\, přetížení\, nesprávnou komunikaci\, nedostatek motivace či opomenutí. Přesto mohou právě tyto chyby sloužit jako cenná příležitost pro rozvoj a inovace\, pokud k nim přistupujeme otevřeně a konstruktivně. Náš interaktivní workshop Vám ukáže\, jak díky práci „s chybou“ a s lidským faktorem proměnit chybu z potenciálního selhání na zdroj růstu.
URL:https://www.upcz.cz/akce/prace-s-chybou-v-organizaci-s-martinem-kalendou/
LOCATION:Online
CATEGORIES:Semináře, webináře a kurzy
END:VEVENT
END:VCALENDAR