BEGIN:VCALENDAR
VERSION:2.0
PRODID:-//Up Česká republika - ECPv6.15.20//NONSGML v1.0//EN
CALSCALE:GREGORIAN
METHOD:PUBLISH
X-ORIGINAL-URL:https://www.upcz.cz
X-WR-CALDESC:Akce na Up Česká republika
REFRESH-INTERVAL;VALUE=DURATION:PT1H
X-Robots-Tag:noindex
X-PUBLISHED-TTL:PT1H
BEGIN:VTIMEZONE
TZID:Europe/Prague
BEGIN:DAYLIGHT
TZOFFSETFROM:+0100
TZOFFSETTO:+0200
TZNAME:CEST
DTSTART:20240331T010000
END:DAYLIGHT
BEGIN:STANDARD
TZOFFSETFROM:+0200
TZOFFSETTO:+0100
TZNAME:CET
DTSTART:20241027T010000
END:STANDARD
BEGIN:DAYLIGHT
TZOFFSETFROM:+0100
TZOFFSETTO:+0200
TZNAME:CEST
DTSTART:20250330T010000
END:DAYLIGHT
BEGIN:STANDARD
TZOFFSETFROM:+0200
TZOFFSETTO:+0100
TZNAME:CET
DTSTART:20251026T010000
END:STANDARD
BEGIN:DAYLIGHT
TZOFFSETFROM:+0100
TZOFFSETTO:+0200
TZNAME:CEST
DTSTART:20260329T010000
END:DAYLIGHT
BEGIN:STANDARD
TZOFFSETFROM:+0200
TZOFFSETTO:+0100
TZNAME:CET
DTSTART:20261025T010000
END:STANDARD
END:VTIMEZONE
BEGIN:VEVENT
DTSTART;TZID=Europe/Prague:20250513T090000
DTEND;TZID=Europe/Prague:20250513T130000
DTSTAMP:20260422T203823
CREATED:20250218T171746Z
LAST-MODIFIED:20250218T171746Z
UID:45925-1747126800-1747141200@www.upcz.cz
SUMMARY:Exchange Meeting v Innogy - Front office je tváří vaší firmy. Jak zajistit\, aby fungoval na 100%?
DESCRIPTION:Přijďte si pro konkrétní tipy a strategie\, jak podpořit ty\, kteří drží firmu na očích – a posuňte jejich výkon i spokojenost na novou úroveň. Inspirace\, praxe\, výsledky. HR služby se v jakékoliv společnosti z velké části odvíjí od požadavků byznysu. Co tým\, to jiný požadavek a nutnost HR přizpůsobit se specifikám daného oddělení. Rádi bychom se\, spolu s vámi\, zastavili nad specifickým přístupem\, který v innogy volí tzv. front officových týmů v B2C segmentu. Jde o péči o jejich kolegy\, kteří přímo komunikují s koncovými zákazníky – domácnostmi\, kteří od innogy odebírají\, kromě jiného\, plyn a elektřinu. Jejich pracovní život je v posledních letech velmi hektický a vyžaduje i ze strany společnosti velkou dávku flexibility a inovativnosti. Na některé projekty jsou hrdí\, některé věci by nyní udělali jinak. I o tom s vámi rádi pohovoří. \n08:45-9:00 – registrace\, přivítání \n09:00 – 9:15 – Lenka Kružíková\, Senior HR Manager společnosti innogy | Jak funguje HR v innogy \n09:15 – 10:00 – Karel Kincl\, Chief Operating Officer innogy Zákaznické služby | Front-office B2C segment očima jednatele \n10:00 – 10:15 – Q&A\, diskuse \n10:30 – 11:00 – Kamila Hofhansová\, HRBP a Anna Hoffmeister\,Teamleader vzdělávání | Radosti a úskalí péče o rychlý byznys call center a pobočkové sítě v innogy ; HR Projekty pro front-office útvary \n11:15 – 12:00 – David Adámek\, Oddělení trenérů innogy Zákaznické služby | Fungování vzdělávacího centra „Akademie“ v innogy ;Systém adaptace nováčka a vzdělávání pro front-office pozice \n12:00 – 12:15 – Q&A\, diskuse \n12:15 – 13:00 – Networking a občerstvení \n 
URL:https://www.upcz.cz/akce/exchange-meeting-v-innogy-front-office-je-tvari-vasi-firmy-jak-zajistit-aby-fungoval-na-100/
LOCATION:MS Teams
CATEGORIES:Semináře, webináře a kurzy
END:VEVENT
BEGIN:VEVENT
DTSTART;TZID=Europe/Prague:20250514T090000
DTEND;TZID=Europe/Prague:20250514T123000
DTSTAMP:20260422T203823
CREATED:20250505T112005Z
LAST-MODIFIED:20250505T112005Z
UID:47735-1747213200-1747225800@www.upcz.cz
SUMMARY:Změny ve skončení pracovního poměru od 1. 6. 2025: Výpovědní doby\, důvody\, výpočet odstupného
DESCRIPTION:Cílem živého vysílání Změny ve skončení pracovního poměru od 1. 6. 2025: Výpovědní doby\, důvody\, výpočet odstupného je ukázat možnosti a řešení skončení pracovního poměru\, upozornit na zákonné novinky\, postupy a pravidla\, a vyhnout se tak zbytečným omylům a závažným důsledkům případného špatného postupu. \nPodrobně si rozebereme zejména nejčastější a nejproblematičtější způsoby skončení pracovního poměru výpovědí. Soustředíme se také na následky neplatného rozvázání pracovního poměru a nabídneme vám možnosti dalšího řešení této svízelné situace\, které budou zcela v souladu s aktuální legislativou. Zaměříme se i na nová soudní rozhodnutí\, která mohou zásadně ovlivnit vaši praxi. \nKlikněte zde pro detailní program živého vysílání. \nKomu je živé vysílání určeno\nŽivé vysílání Změny ve skončení pracovního poměru od 1. 6. 2025: Výpovědní doby\, důvody\, výpočet odstupného je určeno především personalistům\, specialistům v oblasti práce a mezd\, podnikovým právníkům a manažerům lidských zdrojů jak ze soukromého\, tak z veřejného sektoru\, v neposlední řadě je vhodné také pro vedení organizace. \nDalší informace\nJako účastník kurzu obdržíte CERTIFIKÁT o jeho absolvování\, který můžete využít ve svém CV v části o doplňkovém odborném vzdělávání. V ceně živého vysílání jsou podkladové materiály v elektronické podobě. Podrobnosti ke konání školení od nás obdržíte nejpozději den předem\, a to formou e-mailové rozesílky.
URL:https://www.upcz.cz/akce/zmeny-ve-skonceni-pracovniho-pomeru-od-1-6-2025-vypovedni-doby-duvody-vypocet-odstupneho-2/
LOCATION:MS Teams
CATEGORIES:Semináře, webináře a kurzy
ORGANIZER;CN="Nakladatelstv%C3%AD FORUM s.r.o.":MAILTO:office@forum-media.cz
END:VEVENT
BEGIN:VEVENT
DTSTART;VALUE=DATE:20250515
DTEND;VALUE=DATE:20250516
DTSTAMP:20260422T203823
CREATED:20241128T104751Z
LAST-MODIFIED:20241128T104751Z
UID:44339-1747267200-1747353599@www.upcz.cz
SUMMARY:Recruitment Academy Awards 2025
DESCRIPTION:Galavečer jubilejního 10. ročníku RA Awards proběhne 15. května 2025. O spuštění registrací budeme informovat přes sociální sítě Recruitment Academy.
URL:https://www.upcz.cz/akce/recruitment-academy-awards-2025/
LOCATION:Praha
CATEGORIES:Semináře, webináře a kurzy
END:VEVENT
BEGIN:VEVENT
DTSTART;TZID=Europe/Prague:20250527T090000
DTEND;TZID=Europe/Prague:20250527T140000
DTSTAMP:20260422T203823
CREATED:20250415T074411Z
LAST-MODIFIED:20250415T074411Z
UID:47142-1748336400-1748354400@www.upcz.cz
SUMMARY:Zásadní novinky v zaměstnávání cizinců v roce 2025
DESCRIPTION:Máte v práci zaměstnance-cizince nebo chcete nabírat nové? Zaměstnávání cizinců je neustále pod palbou změn! Víte\, jak se letos změnila pravidla pro pobyt Ukrajinců? A jaké novinky přinese nový zákon o vstupu a pobytu cizinců? Za co vám nově vyřadí volné pracovní místo z evidence a vy už cizince nezaměstnáte? A co dalšího musíte jako zaměstnavatel znát? Obrovské změny se týkají všech zaměstnavatelů\, kteří už cizince mají\, nebo plánují mít. Přihlaste se na školení.
URL:https://www.upcz.cz/akce/zasadni-novinky-v-zamestnavani-cizincu-v-roce-2025/
LOCATION:MS Teams
CATEGORIES:Semináře, webináře a kurzy
ORGANIZER;CN="Nakladatelstv%C3%AD FORUM s.r.o.":MAILTO:office@forum-media.cz
END:VEVENT
END:VCALENDAR