BEGIN:VCALENDAR
VERSION:2.0
PRODID:-//Up Česká republika - ECPv6.15.20//NONSGML v1.0//EN
CALSCALE:GREGORIAN
METHOD:PUBLISH
X-ORIGINAL-URL:https://www.upcz.cz
X-WR-CALDESC:Akce na Up Česká republika
REFRESH-INTERVAL;VALUE=DURATION:PT1H
X-Robots-Tag:noindex
X-PUBLISHED-TTL:PT1H
BEGIN:VTIMEZONE
TZID:Europe/Prague
BEGIN:DAYLIGHT
TZOFFSETFROM:+0100
TZOFFSETTO:+0200
TZNAME:CEST
DTSTART:20240331T010000
END:DAYLIGHT
BEGIN:STANDARD
TZOFFSETFROM:+0200
TZOFFSETTO:+0100
TZNAME:CET
DTSTART:20241027T010000
END:STANDARD
BEGIN:DAYLIGHT
TZOFFSETFROM:+0100
TZOFFSETTO:+0200
TZNAME:CEST
DTSTART:20250330T010000
END:DAYLIGHT
BEGIN:STANDARD
TZOFFSETFROM:+0200
TZOFFSETTO:+0100
TZNAME:CET
DTSTART:20251026T010000
END:STANDARD
BEGIN:DAYLIGHT
TZOFFSETFROM:+0100
TZOFFSETTO:+0200
TZNAME:CEST
DTSTART:20260329T010000
END:DAYLIGHT
BEGIN:STANDARD
TZOFFSETFROM:+0200
TZOFFSETTO:+0100
TZNAME:CET
DTSTART:20261025T010000
END:STANDARD
END:VTIMEZONE
BEGIN:VEVENT
DTSTART;TZID=Europe/Prague:20250828T170000
DTEND;TZID=Europe/Prague:20250828T220000
DTSTAMP:20260422T153748
CREATED:20250707T085413Z
LAST-MODIFIED:20250707T085413Z
UID:48804-1756400400-1756418400@www.upcz.cz
SUMMARY:HR na vlnách | Digitální ambasadorství | Trend\, nebo nutnost HR komunikace?
DESCRIPTION:Vyplujte s námi do inspirativních vod digitálního ambasadorství. Čeká vás praktický workshop na palubě\, natáčení ambasadorského videa\, plno rad a zkušeností\, jak zapojit zaměstnance do budování značky. A samozřejmě také networking v neformální atmosféře\, dobré jídlo\, instagramový západ slunce a prázdninová atmosféra během plavby. Tak vzhůru na palubu! \nZveme vás na další HR plavbu\, tentokrát inspirativními vodami jednoho z nejvýraznějších trendů současné HR komunikace: digitálním ambasadorstvím. Jsou to totiž právě lidé – vaši zaměstnanci – kteří jsou v době umělé inteligence autentickým hlasem vaší firmy. Digitální ambasadoři ukazují firmu takovou\, jaká opravdu je lidsky\, důvěryhodně\, zajímavě. Proto jim naslouchají budoucí i současní zaměstnanci: protože lidé věří lidem\, ne logům a proklamacím. \n‍ \nProgram\n17:00 – 18:00 – Welcome drink \n18:00 – Nástup na loď a odplouvání \n18:10 – 18:15 Úvodní slovo a představení partnerů \n18:15 – 19:15 Workshop – plavba \nNa workshopu s expertem na (nejenom) digitální komunikaci Jirkou Kratochvílem zjistíte\, jak aktivovat potenciál vašich kolegů a jak efektivně budovat osobní značku na LinkedIn i v interní komunikaci. Získáte praktické tipy\, jak bez investic do reklamy znásobit dosah HR komunikace\, budovat vztahy a posílit leadership. Natočíte si vlastní ambasadorské video a odnesete si konkrétní témata\, se kterými můžete začít pracovat třeba hned po vylodění! To všechno během krásného letního večera prožitého s inspirativními (HR) lidmi\, doslova instagramovým západem slunce\, skvělým jídlem a atmosférou s nádechem prázdnin. \n19:15 – 22:00 Networking s rautem a natáčením ambasadorského videa (21:00zakotvení)
URL:https://www.upcz.cz/akce/hr-na-vlnach-digitalni-ambasadorstvi-trend-nebo-nutnost-hr-komunikace-2/
LOCATION:Praha
CATEGORIES:Semináře, webináře a kurzy
END:VEVENT
END:VCALENDAR