BEGIN:VCALENDAR
VERSION:2.0
PRODID:-//Up Česká republika - ECPv6.15.20//NONSGML v1.0//EN
CALSCALE:GREGORIAN
METHOD:PUBLISH
X-WR-CALNAME:Up Česká republika
X-ORIGINAL-URL:https://www.upcz.cz
X-WR-CALDESC:Akce na Up Česká republika
REFRESH-INTERVAL;VALUE=DURATION:PT1H
X-Robots-Tag:noindex
X-PUBLISHED-TTL:PT1H
BEGIN:VTIMEZONE
TZID:Europe/Prague
BEGIN:DAYLIGHT
TZOFFSETFROM:+0100
TZOFFSETTO:+0200
TZNAME:CEST
DTSTART:20220327T010000
END:DAYLIGHT
BEGIN:STANDARD
TZOFFSETFROM:+0200
TZOFFSETTO:+0100
TZNAME:CET
DTSTART:20221030T010000
END:STANDARD
BEGIN:DAYLIGHT
TZOFFSETFROM:+0100
TZOFFSETTO:+0200
TZNAME:CEST
DTSTART:20230326T010000
END:DAYLIGHT
BEGIN:STANDARD
TZOFFSETFROM:+0200
TZOFFSETTO:+0100
TZNAME:CET
DTSTART:20231029T010000
END:STANDARD
BEGIN:DAYLIGHT
TZOFFSETFROM:+0100
TZOFFSETTO:+0200
TZNAME:CEST
DTSTART:20240331T010000
END:DAYLIGHT
BEGIN:STANDARD
TZOFFSETFROM:+0200
TZOFFSETTO:+0100
TZNAME:CET
DTSTART:20241027T010000
END:STANDARD
END:VTIMEZONE
BEGIN:VEVENT
DTSTART;TZID=Europe/Prague:20231010T090000
DTEND;TZID=Europe/Prague:20231010T130000
DTSTAMP:20260426T025111
CREATED:20230615T073333Z
LAST-MODIFIED:20230615T073857Z
UID:29601-1696928400-1696942800@www.upcz.cz
SUMMARY:Exchange Meeting v Plzeňském prazdroji: Spolu u stolu v digitální době
DESCRIPTION:O čem: \n\nZaostření na diverzitu: rovné odměňování a podpora zaměstnanců při různých životních událostech\nDigitalizace a data v HR\nProhlídka výroby piva Pilsner Urquell v rámci okruhu pro návštěvníky.
URL:https://www.upcz.cz/akce/exchange-meeting-v-plzenskem-prazdroji-spolu-u-stolu-v-digitalni-dobe/
CATEGORIES:Semináře, webináře a kurzy
END:VEVENT
BEGIN:VEVENT
DTSTART;VALUE=DATE:20230914
DTEND;VALUE=DATE:20230915
DTSTAMP:20260426T025111
CREATED:20230927T113421Z
LAST-MODIFIED:20230927T113446Z
UID:31234-1694649600-1694735999@www.upcz.cz
SUMMARY:Learn&Tech
DESCRIPTION:Firemní vzdělávání přináší 5. ročník eventu zaměřeného na prezentaci online a digitálních technologií pro oblast firemního vzdělávání a jejich tvůrců. \n​ \nJde o kombinaci krátkých prezentací jednotlivých technologických řešení \npro firemní vzdělávání s menším veletrhem. To vše doplněno o úvodní příspěvek k technologiím a závěrečnou panelovou diskusi. \n​ \nJedinečná příležitost pro personalisty zabývající se rozvojem a vzděláváním \nsvých zaměstnanců\, L&D a T&D manažery organizací vyzkoušet si na vlastní kůži moderní e-learningy\, vzdělávací weby\, aplikace\, rozšířenou a virtuální realitu  \na využití umělé inteligence (AI). A samozřejmě také zkonzultovat možnosti jejich využití ve své organizaci.
URL:https://www.upcz.cz/akce/learntech/
LOCATION:Praha
CATEGORIES:Semináře, webináře a kurzy
END:VEVENT
BEGIN:VEVENT
DTSTART;TZID=Europe/Prague:20230615T090000
DTEND;TZID=Europe/Prague:20230615T103000
DTSTAMP:20260426T025111
CREATED:20230615T073058Z
LAST-MODIFIED:20230615T073840Z
UID:29599-1686819600-1686825000@www.upcz.cz
SUMMARY:online Inspirace: Jak vést rozhovory se zaměstnanci v době krize
DESCRIPTION:Co se na inspiraci dozvíte: \n\n\n\nJak vést rozhovory se zaměstnanci v době krize\nProč je to důležité\nCo tahle forma komunikace přinese Vám i Vašim zaměstnancům\nČemu díky ní můžete předejít\nJak se připravit na tenhle typ komunikace\n\nPodle expertů bude letošní rok plný nejistot a změn. Životní situace jsou tak čím dál tím náročnější. Abychom se stali odolnější\, je kromě jiného nutné\, abychom byli dostatečně informovaní a měli v týmu funkční komunikaci.
URL:https://www.upcz.cz/akce/online-inspirace-jak-vest-rozhovory-se-zamestnanci-v-dobe-krize-2/
LOCATION:MS Teams
CATEGORIES:Semináře, webináře a kurzy
END:VEVENT
BEGIN:VEVENT
DTSTART;TZID=Europe/Prague:20230615T090000
DTEND;TZID=Europe/Prague:20230615T103000
DTSTAMP:20260426T025111
CREATED:20230530T075420Z
LAST-MODIFIED:20230530T075420Z
UID:29206-1686819600-1686825000@www.upcz.cz
SUMMARY:Online Inspirace: Jak vést rozhovory se zaměstnanci v době krize
DESCRIPTION:Co se na inspiraci dozvíte: \n\n\n\nJak vést rozhovory se zaměstnanci v době krize\nProč je to důležité\nCo tahle forma komunikace přinese Vám i Vašim zaměstnancům\nČemu díky ní můžete předejít\nJak se připravit na tenhle typ komunikace\n\nPodle expertů bude letošní rok plný nejistot a změn. Životní situace jsou tak čím dál tím náročnější. Abychom se stali odolnější\, je kromě jiného nutné\, abychom byli dostatečně informovaní a měli v týmu funkční komunikaci.
URL:https://www.upcz.cz/akce/online-inspirace-jak-vest-rozhovory-se-zamestnanci-v-dobe-krize/
LOCATION:MS Teams
CATEGORIES:Semináře, webináře a kurzy
END:VEVENT
BEGIN:VEVENT
DTSTART;TZID=Europe/Prague:20230614T090000
DTEND;TZID=Europe/Prague:20230614T130000
DTSTAMP:20260426T025111
CREATED:20230530T075055Z
LAST-MODIFIED:20230530T075055Z
UID:29202-1686733200-1686747600@www.upcz.cz
SUMMARY:Exchange Meeting v LMC
DESCRIPTION:O čem: \n\nProměna LMC z lokální (české firmy) v mezinárodní společnost\n\n\nProcesní a kulturní fúze se společností Profesia\nStakeholder management směrem k mateřské společnosti ALMA\nOrganizační a procesní změny (včetně implementace nových systémů)\nBudování odolné firmy (a odolného HR )\n\n\nStěhování do nových kanceláří\n\n\nZměna způsobu fungování (shared desk policy)\nFilozofie firmy propsaná do pracovního prostředí (feng-shui)\nJak se popasováváme s ostatními lokalitami včetně Bratislavy\n\n\nZaměstnanecké benefity a náš přístup k nim\n\n\nRelaxed – healthy – engaged koncept\nMichelin vs. nádražní restaurace\nTrend setting benefity (neomezené volno)\nJak sladit benefity\, když fúzujete\n\n\nJak vyvíjíme produkty – na konkrétních případech vám dáme nahlédnout pod pokličku toho\, jak vyvíjíme produkty\, které požíváte a vysvětlíme\, proč některé věci jdou a některé ne.\n\n\nJak děláme Discovery\nJak zapojujeme klienty\nPodle čeho se rozhodujeme\nProč nemůžeme vyhovět všem požadavkům\, jakkoli jsou rozumné\n\nPozveme vás i na prohlídku kanceláří v Docku.
URL:https://www.upcz.cz/akce/exchange-meeting-v-lmc/
LOCATION:LMC kanceláře\, Dock in Five
CATEGORIES:Semináře, webináře a kurzy
END:VEVENT
BEGIN:VEVENT
DTSTART;TZID=Europe/Prague:20230609T090000
DTEND;TZID=Europe/Prague:20230609T110000
DTSTAMP:20260426T025111
CREATED:20230530T074433Z
LAST-MODIFIED:20230530T074433Z
UID:29198-1686301200-1686308400@www.upcz.cz
SUMMARY:Transpoziční novela zákoníku práce: příklady a praxe
DESCRIPTION:HR Forum ve spolupráci s nově vznikající Asociací personalistů a Ministerstvem práce a sociálních věcí Vás srdečně zve na odborné webináře k zákoníku práce. \nTématem Vás provedou zástupci MPSV v čele s vrchní ředitelkou legislativního odboru Mgr. Danou Roučkovou. \nTranspoziční novela zákoníku práce mířící do Poslanecké sněmovny řeší některá klíčová témata\, jako je úprava dohod\, home office\, digitalizace pracovněprávní dokumentace a další. \nPrvní část webináře bude věnována záměrům novely a komentářům k ní.  V druhé části bude prostor pro Vaše dotazy a diskuzi. \nWebináře jsou určeny pro všechny personalisty\, pracovníky v HR i odbornou veřejnost.
URL:https://www.upcz.cz/akce/transpozicni-novela-zakoniku-prace-priklady-a-praxe/
LOCATION:MS Teams
CATEGORIES:Semináře, webináře a kurzy
END:VEVENT
BEGIN:VEVENT
DTSTART;VALUE=DATE:20230412
DTEND;VALUE=DATE:20230608
DTSTAMP:20260426T025111
CREATED:20230323T200204Z
LAST-MODIFIED:20230323T200204Z
UID:28026-1681257600-1686182399@www.upcz.cz
SUMMARY:HR Profesionál
DESCRIPTION:
URL:https://www.upcz.cz/akce/hr-profesional/
CATEGORIES:Semináře, webináře a kurzy
END:VEVENT
BEGIN:VEVENT
DTSTART;VALUE=DATE:20230331
DTEND;VALUE=DATE:20230401
DTSTAMP:20260426T025111
CREATED:20230323T200122Z
LAST-MODIFIED:20230323T200122Z
UID:28024-1680220800-1680307199@www.upcz.cz
SUMMARY:HR ON-LINE káva s Tomášem Ervínem Dombrovským
DESCRIPTION:
URL:https://www.upcz.cz/akce/hr-on-line-kava-s-tomasem-ervinem-dombrovskym/
CATEGORIES:Semináře, webináře a kurzy
END:VEVENT
BEGIN:VEVENT
DTSTART;VALUE=DATE:20230330
DTEND;VALUE=DATE:20230331
DTSTAMP:20260426T025111
CREATED:20230323T200040Z
LAST-MODIFIED:20230323T200040Z
UID:28022-1680134400-1680220799@www.upcz.cz
SUMMARY:Digitalizace HR
DESCRIPTION:
URL:https://www.upcz.cz/akce/digitalizace-hr/
CATEGORIES:Semináře, webináře a kurzy
END:VEVENT
END:VCALENDAR