BEGIN:VCALENDAR
VERSION:2.0
PRODID:-//Up Česká republika - ECPv6.15.20//NONSGML v1.0//EN
CALSCALE:GREGORIAN
METHOD:PUBLISH
X-ORIGINAL-URL:https://www.upcz.cz
X-WR-CALDESC:Akce na Up Česká republika
REFRESH-INTERVAL;VALUE=DURATION:PT1H
X-Robots-Tag:noindex
X-PUBLISHED-TTL:PT1H
BEGIN:VTIMEZONE
TZID:Europe/Prague
BEGIN:DAYLIGHT
TZOFFSETFROM:+0100
TZOFFSETTO:+0200
TZNAME:CEST
DTSTART:20240331T010000
END:DAYLIGHT
BEGIN:STANDARD
TZOFFSETFROM:+0200
TZOFFSETTO:+0100
TZNAME:CET
DTSTART:20241027T010000
END:STANDARD
BEGIN:DAYLIGHT
TZOFFSETFROM:+0100
TZOFFSETTO:+0200
TZNAME:CEST
DTSTART:20250330T010000
END:DAYLIGHT
BEGIN:STANDARD
TZOFFSETFROM:+0200
TZOFFSETTO:+0100
TZNAME:CET
DTSTART:20251026T010000
END:STANDARD
BEGIN:DAYLIGHT
TZOFFSETFROM:+0100
TZOFFSETTO:+0200
TZNAME:CEST
DTSTART:20260329T010000
END:DAYLIGHT
BEGIN:STANDARD
TZOFFSETFROM:+0200
TZOFFSETTO:+0100
TZNAME:CET
DTSTART:20261025T010000
END:STANDARD
BEGIN:DAYLIGHT
TZOFFSETFROM:+0100
TZOFFSETTO:+0200
TZNAME:CEST
DTSTART:20270328T010000
END:DAYLIGHT
BEGIN:STANDARD
TZOFFSETFROM:+0200
TZOFFSETTO:+0100
TZNAME:CET
DTSTART:20271031T010000
END:STANDARD
END:VTIMEZONE
BEGIN:VEVENT
DTSTART;TZID=Europe/Prague:20250828T170000
DTEND;TZID=Europe/Prague:20250828T220000
DTSTAMP:20260422T184506
CREATED:20250707T085413Z
LAST-MODIFIED:20250707T085413Z
UID:48804-1756400400-1756418400@www.upcz.cz
SUMMARY:HR na vlnách | Digitální ambasadorství | Trend\, nebo nutnost HR komunikace?
DESCRIPTION:Vyplujte s námi do inspirativních vod digitálního ambasadorství. Čeká vás praktický workshop na palubě\, natáčení ambasadorského videa\, plno rad a zkušeností\, jak zapojit zaměstnance do budování značky. A samozřejmě také networking v neformální atmosféře\, dobré jídlo\, instagramový západ slunce a prázdninová atmosféra během plavby. Tak vzhůru na palubu! \nZveme vás na další HR plavbu\, tentokrát inspirativními vodami jednoho z nejvýraznějších trendů současné HR komunikace: digitálním ambasadorstvím. Jsou to totiž právě lidé – vaši zaměstnanci – kteří jsou v době umělé inteligence autentickým hlasem vaší firmy. Digitální ambasadoři ukazují firmu takovou\, jaká opravdu je lidsky\, důvěryhodně\, zajímavě. Proto jim naslouchají budoucí i současní zaměstnanci: protože lidé věří lidem\, ne logům a proklamacím. \n‍ \nProgram\n17:00 – 18:00 – Welcome drink \n18:00 – Nástup na loď a odplouvání \n18:10 – 18:15 Úvodní slovo a představení partnerů \n18:15 – 19:15 Workshop – plavba \nNa workshopu s expertem na (nejenom) digitální komunikaci Jirkou Kratochvílem zjistíte\, jak aktivovat potenciál vašich kolegů a jak efektivně budovat osobní značku na LinkedIn i v interní komunikaci. Získáte praktické tipy\, jak bez investic do reklamy znásobit dosah HR komunikace\, budovat vztahy a posílit leadership. Natočíte si vlastní ambasadorské video a odnesete si konkrétní témata\, se kterými můžete začít pracovat třeba hned po vylodění! To všechno během krásného letního večera prožitého s inspirativními (HR) lidmi\, doslova instagramovým západem slunce\, skvělým jídlem a atmosférou s nádechem prázdnin. \n19:15 – 22:00 Networking s rautem a natáčením ambasadorského videa (21:00zakotvení)
URL:https://www.upcz.cz/akce/hr-na-vlnach-digitalni-ambasadorstvi-trend-nebo-nutnost-hr-komunikace-2/
LOCATION:Praha
CATEGORIES:Semináře, webináře a kurzy
END:VEVENT
BEGIN:VEVENT
DTSTART;TZID=Europe/Prague:20250904T090000
DTEND;TZID=Europe/Prague:20250904T113000
DTSTAMP:20260422T184506
CREATED:20250226T091935Z
LAST-MODIFIED:20250415T061929Z
UID:46036-1756976400-1756985400@www.upcz.cz
SUMMARY:HR Snídaně | HR\, L&D a recruitment v digitální době: IT frameworky\, které byste měli znát
DESCRIPTION:HR profesionálové\, recruitéři a specialisté na Learning & Development dnes stále častěji spolupracují s IT\, projektovými manažery a agilními týmy. Aby tato spolupráce byla efektivní\, je klíčové porozumět základním IT frameworkům\, které formují moderní pracovní prostředí. Na této snídani se seznámíte s nejpoužívanějšími frameworky\, jako jsou ITIL\, DevOps\, PRINCE2 a Scrum\, a zjistíte\, jak vám pomohou lépe porozumět terminologii\, sladit jazyk s kolegy z IT a podpořit efektivní spolupráci mezi HR a technologickými týmy. Zároveň získáte užitečné informace pro nábor IT specialistů – porozumění frameworkům vám pomůže lépe pochopit požadavky na kandidáty a usnadní komunikaci s hiring manažery. Learning & Development týmy pak mohou tyto znalosti využít při nastavování školení a rozvojových programů v IT a projektovém řízení.
URL:https://www.upcz.cz/akce/hr-snidane-hr-ld-a-recruitment-v-digitalni-dobe-it-frameworky-ktere-byste-meli-znat/
LOCATION:HEWLETT-PACKARD s.r.o.\, Za Brumlovkou 1559/5\, Michle\, 140 00 Praha 4\, Za Brumlovkou 1559/5\, Michle\, 140 00 Praha 4\, PRAHA 4\, Praha\, 140 00\, Czech Republic
CATEGORIES:Semináře, webináře a kurzy
END:VEVENT
BEGIN:VEVENT
DTSTART;TZID=Europe/Prague:20250918T090000
DTEND;TZID=Europe/Prague:20250918T130000
DTSTAMP:20260422T184506
CREATED:20250401T124337Z
LAST-MODIFIED:20250401T124337Z
UID:46621-1758186000-1758200400@www.upcz.cz
SUMMARY:Exchange meeting | Data-driven Recruitment na Letišti Praha: Jak proměnit nábor ve strategický nástroj úspěchu
DESCRIPTION:Připojte se k jedinečnému HR setkání\, kde společně odhalíme\, jak data\, technologie a spolupráce s marketingem mohou pozvednout nábor na úroveň strategického partnerství. Čeká vás inspirativní dopoledne plné konkrétních příběhů a ukázek z praxe\, diskuse u kulatých stolů zaměřené na sdílení nápadů a vlastních zkušeností. V rámci exkurze budete mít možnost nahlédnout do unikátní společnosti. Objevte nové perspektivy\, získejte praktické tipy a staňte se součástí komunity HR expertů\, kteří posouvají hranice recruitmentu. Přijďte inspirovat sebe i ostatní!
URL:https://www.upcz.cz/akce/exchange-meeting-data-driven-recruitment-na-letisti-praha-jak-promenit-nabor-ve-strategicky-nastroj-uspechu/
LOCATION:Praha
CATEGORIES:Semináře, webináře a kurzy
END:VEVENT
BEGIN:VEVENT
DTSTART;TZID=Europe/Prague:20251211T090000
DTEND;TZID=Europe/Prague:20251211T113000
DTSTAMP:20260422T184506
CREATED:20250811T122250Z
LAST-MODIFIED:20250811T122250Z
UID:49093-1765443600-1765452600@www.upcz.cz
SUMMARY:HR Snídaně | Mindfulness jako "mind-fitness"
DESCRIPTION:Jak pečovat o svou mysl – a inspirovat k tomu i ostatní? Většina z nás už dnes rozumí tomu\, že se musíme starat o své tělo – potřebujeme pohyb\, kvalitní výživu a odpočinek. Ale co naše mysl? Jak se staráme o ni? \nVětšina z nás už dnes rozumí tomu\, že se musíme starat o své tělo – potřebujeme pohyb\, kvalitní výživu a odpočinek. Ale co naše mysl? Jak se staráme o ni? Necháváme ji běžet na autopilota\, toulat se\, přeskakovat z místa na místo\, zahlcujeme ji nepřetržitým proudem podnětů\, rozhodnutí a požadavků? Jsme unavení\, neklidní\, nespokojení? \nZveme vás k praktickému seznámení s esencí myšlenek mindfulness. Získáte jasnější představu o tom\, co mindfulness skutečně znamená\, vyzkoušíte si cvičení\, která můžete okamžitě začít používat – a vydat se na fascinující\, vědou podloženou cestu k lepší koncentraci\, vnitřnímu klidu a větší spokojenosti. \nMindfulness je zároveň silný nástroj i pro vaši práci v HR: pomůže vám být více přítomní ve vypjatých situacích\, nabídnout praktickou podporu lidem v náročném období a jít příkladem vědomého a zdravého přístupu k práci i sobě samým. \nČeká vás praktický a zážitkový formát\, jako bonus si odnesete krásný dárek\, který vám pomůže udělat první krok. 11. prosince je ideální čas nechat za sebou to\, co už vám neslouží– a začít nový rok s čistou hlavou a zdravou péčí o svou mysl.
URL:https://www.upcz.cz/akce/hr-snidane-mindfulness-jako-mind-fitness/
LOCATION:Praha
CATEGORIES:Semináře, webináře a kurzy
END:VEVENT
BEGIN:VEVENT
DTSTART;TZID=Europe/Prague:20260326T080000
DTEND;TZID=Europe/Prague:20260326T170000
DTSTAMP:20260422T184506
CREATED:20260326T120314Z
LAST-MODIFIED:20260326T120314Z
UID:56078-1774512000-1774544400@www.upcz.cz
SUMMARY:HR Breakfast v Praze - benefity\, změny a daňové dopady
DESCRIPTION:HR snídaně
URL:https://www.upcz.cz/akce/hr-breakfast-v-praze-benefity-zmeny-a-danove-dopady/
LOCATION:PwC Česká republika
CATEGORIES:Semináře, webináře a kurzy
END:VEVENT
BEGIN:VEVENT
DTSTART;TZID=Europe/Prague:20260415T100000
DTEND;TZID=Europe/Prague:20260415T113000
DTSTAMP:20260422T184506
CREATED:20260318T105818Z
LAST-MODIFIED:20260318T105818Z
UID:55585-1776247200-1776252600@www.upcz.cz
SUMMARY:Profesionální vedení výběrového pohovoru v kontextu doby s Martinem Kalendou
DESCRIPTION:Workshop
URL:https://www.upcz.cz/akce/profesionalni-vedeni-vyberoveho-pohovoru-v-kontextu-doby-s-martinem-kalendou/
LOCATION:Online
CATEGORIES:Semináře, webináře a kurzy
END:VEVENT
BEGIN:VEVENT
DTSTART;TZID=Europe/Prague:20260416T090000
DTEND;TZID=Europe/Prague:20260416T123000
DTSTAMP:20260422T184506
CREATED:20260326T115553Z
LAST-MODIFIED:20260326T115553Z
UID:55604-1776330000-1776342600@www.upcz.cz
SUMMARY:HR BREAKFAST v Jihlavě - bez cizinců se prostě neobejdeme
DESCRIPTION:HR snídaně
URL:https://www.upcz.cz/akce/hr-breakfast-v-jihlave-bez-cizincu-se-proste-neobejdeme/
LOCATION:EA Business hotel\, Havlíčkova 5625/28\, Jihlava
CATEGORIES:Semináře, webináře a kurzy
END:VEVENT
BEGIN:VEVENT
DTSTART;TZID=Europe/Prague:20260416T100000
DTEND;TZID=Europe/Prague:20260416T113000
DTSTAMP:20260422T184506
CREATED:20260318T110417Z
LAST-MODIFIED:20260318T110417Z
UID:55587-1776333600-1776339000@www.upcz.cz
SUMMARY:360° zpětná vazba s Vratislavem Kalendou
DESCRIPTION:Workshop
URL:https://www.upcz.cz/akce/360-zpetna-vazba-s-vratislavem-kalendou-2/
LOCATION:Online
CATEGORIES:Semináře, webináře a kurzy
END:VEVENT
BEGIN:VEVENT
DTSTART;TZID=Europe/Prague:20260422T093000
DTEND;TZID=Europe/Prague:20260422T110000
DTSTAMP:20260422T184506
CREATED:20260318T104725Z
LAST-MODIFIED:20260318T104725Z
UID:55582-1776850200-1776855600@www.upcz.cz
SUMMARY:Webinář | Pay equity jako součást HR procesů - jste připraveni na nová pravidla?
DESCRIPTION:Webinář
URL:https://www.upcz.cz/akce/webinar-pay-equity-jako-soucast-hr-procesu-jste-pripraveni-na-nova-pravidla/
LOCATION:On-line MS Teams
CATEGORIES:Semináře, webináře a kurzy
END:VEVENT
BEGIN:VEVENT
DTSTART;TZID=Europe/Prague:20260604T090000
DTEND;TZID=Europe/Prague:20260604T123000
DTSTAMP:20260422T184506
CREATED:20260326T094757Z
LAST-MODIFIED:20260326T094757Z
UID:56058-1780563600-1780576200@www.upcz.cz
SUMMARY:Exchange meeting FERRING | Zdraví jako strategická výhoda firmy
DESCRIPTION:Seminář
URL:https://www.upcz.cz/akce/exchange-meeting-ferring-zdravi-jako-strategicka-vyhoda-firmy/
LOCATION:Ferring-Léčiva a.s.\, K Rybníku 475\, Jesenice u Prahy
CATEGORIES:Semináře, webináře a kurzy
END:VEVENT
BEGIN:VEVENT
DTSTART;TZID=Europe/Prague:20260609T090000
DTEND;TZID=Europe/Prague:20260609T130000
DTSTAMP:20260422T184506
CREATED:20260326T095318Z
LAST-MODIFIED:20260326T095318Z
UID:56062-1780995600-1781010000@www.upcz.cz
SUMMARY:Exchange meeting UNIQA | Wellbeing\, který skutečně funguje: Zkušenosti z prostředí finanční instituce
DESCRIPTION:Seminář
URL:https://www.upcz.cz/akce/exchange-meeting-uniqa-wellbeing-ktery-skutecne-funguje-zkusenosti-z-prostredi-financni-instituce/
LOCATION:UNIQA Česká republika | Úzká 488/8\, 602 00 Brno-střed-Trnitá
CATEGORIES:Semináře, webináře a kurzy
END:VEVENT
BEGIN:VEVENT
DTSTART;TZID=Europe/Prague:20260618T093000
DTEND;TZID=Europe/Prague:20260618T110000
DTSTAMP:20260422T184506
CREATED:20260326T095503Z
LAST-MODIFIED:20260326T095503Z
UID:56066-1781775000-1781780400@www.upcz.cz
SUMMARY:Webinář | Mzdové minimum pro personalisty: Znalosti\, které předcházejí chybám i nespokojenosti zaměstnanců
DESCRIPTION:Webinář
URL:https://www.upcz.cz/akce/webinar-mzdove-minimum-pro-personalisty-znalosti-ktere-predchazeji-chybam-i-nespokojenosti-zamestnancu/
LOCATION:On-line MS Teams
CATEGORIES:Semináře, webináře a kurzy
END:VEVENT
END:VCALENDAR